BEGIN:VCALENDAR
VERSION:2.0
PRODID:-//Wellspring Church - ECPv6.15.20//NONSGML v1.0//EN
CALSCALE:GREGORIAN
METHOD:PUBLISH
X-ORIGINAL-URL:https://wellspringms.church
X-WR-CALDESC:Events for Wellspring Church
REFRESH-INTERVAL;VALUE=DURATION:PT1H
X-Robots-Tag:noindex
X-PUBLISHED-TTL:PT1H
BEGIN:VTIMEZONE
TZID:America/Chicago
BEGIN:DAYLIGHT
TZOFFSETFROM:-0600
TZOFFSETTO:-0500
TZNAME:CDT
DTSTART:20230312T080000
END:DAYLIGHT
BEGIN:STANDARD
TZOFFSETFROM:-0500
TZOFFSETTO:-0600
TZNAME:CST
DTSTART:20231105T070000
END:STANDARD
BEGIN:DAYLIGHT
TZOFFSETFROM:-0600
TZOFFSETTO:-0500
TZNAME:CDT
DTSTART:20240310T080000
END:DAYLIGHT
BEGIN:STANDARD
TZOFFSETFROM:-0500
TZOFFSETTO:-0600
TZNAME:CST
DTSTART:20241103T070000
END:STANDARD
BEGIN:DAYLIGHT
TZOFFSETFROM:-0600
TZOFFSETTO:-0500
TZNAME:CDT
DTSTART:20250309T080000
END:DAYLIGHT
BEGIN:STANDARD
TZOFFSETFROM:-0500
TZOFFSETTO:-0600
TZNAME:CST
DTSTART:20251102T070000
END:STANDARD
END:VTIMEZONE
BEGIN:VEVENT
DTSTART;TZID=America/Chicago:20241108T123000
DTEND;TZID=America/Chicago:20241108T170000
DTSTAMP:20260420T075829
CREATED:20240920T150906Z
LAST-MODIFIED:20240920T151040Z
UID:10008421-1731069000-1731085200@wellspringms.church
SUMMARY:Mission Trip Golf Fundraiser
DESCRIPTION:Our Mission Team has been serving in Honduras building homes and providing much needed medical care to the people of Honduras for more than 15 years in partnership with Salt & Light Ministry Foundation (Brandon\, MS). Each year we build two homes and serve hundreds of adults and children with medical needs. The golf tournament begins at 12:30PM with lunch prior. \nDownload the Registration Form here.
URL:https://wellspringms.church/event/mission-trip-golf-fundraiser/
LOCATION:MS
CATEGORIES:Fellowship Event
END:VEVENT
END:VCALENDAR