BEGIN:VCALENDAR
VERSION:2.0
PRODID:-//Wellspring Church - ECPv6.15.20//NONSGML v1.0//EN
CALSCALE:GREGORIAN
METHOD:PUBLISH
X-ORIGINAL-URL:https://wellspringms.church
X-WR-CALDESC:Events for Wellspring Church
REFRESH-INTERVAL;VALUE=DURATION:PT1H
X-Robots-Tag:noindex
X-PUBLISHED-TTL:PT1H
BEGIN:VTIMEZONE
TZID:America/Chicago
BEGIN:DAYLIGHT
TZOFFSETFROM:-0600
TZOFFSETTO:-0500
TZNAME:CDT
DTSTART:20230312T080000
END:DAYLIGHT
BEGIN:STANDARD
TZOFFSETFROM:-0500
TZOFFSETTO:-0600
TZNAME:CST
DTSTART:20231105T070000
END:STANDARD
BEGIN:DAYLIGHT
TZOFFSETFROM:-0600
TZOFFSETTO:-0500
TZNAME:CDT
DTSTART:20240310T080000
END:DAYLIGHT
BEGIN:STANDARD
TZOFFSETFROM:-0500
TZOFFSETTO:-0600
TZNAME:CST
DTSTART:20241103T070000
END:STANDARD
BEGIN:DAYLIGHT
TZOFFSETFROM:-0600
TZOFFSETTO:-0500
TZNAME:CDT
DTSTART:20250309T080000
END:DAYLIGHT
BEGIN:STANDARD
TZOFFSETFROM:-0500
TZOFFSETTO:-0600
TZNAME:CST
DTSTART:20251102T070000
END:STANDARD
END:VTIMEZONE
BEGIN:VEVENT
DTSTART;TZID=America/Chicago:20241110T163000
DTEND;TZID=America/Chicago:20241110T193000
DTSTAMP:20260421T003847
CREATED:20241029T014127Z
LAST-MODIFIED:20241029T015316Z
UID:10008761-1731256200-1731267000@wellspringms.church
SUMMARY:Manger Mission - Adopt a Family/Child & Grab a Ornament
DESCRIPTION:Maner Mission Christmas Adoption program. \nIn collaboration with Madcaap Wellspring is adopting 50 children to help provide Christmas
URL:https://wellspringms.church/event/manger-mission-adopt-a-family-child-grab-a-ornament/
LOCATION:MS
CATEGORIES:missions
END:VEVENT
BEGIN:VEVENT
DTSTART;TZID=America/Chicago:20241110T181500
DTEND;TZID=America/Chicago:20241110T190000
DTSTAMP:20260421T003847
CREATED:20241028T231107Z
LAST-MODIFIED:20241028T232241Z
UID:10008742-1731262500-1731265200@wellspringms.church
SUMMARY:Town Hall Meeting: Denominational Affiliation
DESCRIPTION:In this Town Hall meeting\, the Ad Hoc Denominational Affiliation Committee will report its results to the congregation for feedback.
URL:https://wellspringms.church/event/town-hall-meeting-denominational-affiliation/
LOCATION:MS
CATEGORIES:Meetings
END:VEVENT
END:VCALENDAR