BEGIN:VCALENDAR
VERSION:2.0
PRODID:-//Wellspring Church - ECPv6.15.20//NONSGML v1.0//EN
CALSCALE:GREGORIAN
METHOD:PUBLISH
X-ORIGINAL-URL:https://wellspringms.church
X-WR-CALDESC:Events for Wellspring Church
REFRESH-INTERVAL;VALUE=DURATION:PT1H
X-Robots-Tag:noindex
X-PUBLISHED-TTL:PT1H
BEGIN:VTIMEZONE
TZID:America/Chicago
BEGIN:DAYLIGHT
TZOFFSETFROM:-0600
TZOFFSETTO:-0500
TZNAME:CDT
DTSTART:20240310T080000
END:DAYLIGHT
BEGIN:STANDARD
TZOFFSETFROM:-0500
TZOFFSETTO:-0600
TZNAME:CST
DTSTART:20241103T070000
END:STANDARD
BEGIN:DAYLIGHT
TZOFFSETFROM:-0600
TZOFFSETTO:-0500
TZNAME:CDT
DTSTART:20250309T080000
END:DAYLIGHT
BEGIN:STANDARD
TZOFFSETFROM:-0500
TZOFFSETTO:-0600
TZNAME:CST
DTSTART:20251102T070000
END:STANDARD
BEGIN:DAYLIGHT
TZOFFSETFROM:-0600
TZOFFSETTO:-0500
TZNAME:CDT
DTSTART:20260308T080000
END:DAYLIGHT
BEGIN:STANDARD
TZOFFSETFROM:-0500
TZOFFSETTO:-0600
TZNAME:CST
DTSTART:20261101T070000
END:STANDARD
END:VTIMEZONE
BEGIN:VEVENT
DTSTART;TZID=America/Chicago:20250608T103000
DTEND;TZID=America/Chicago:20250611T193000
DTSTAMP:20260419T085721
CREATED:20250501T134923Z
LAST-MODIFIED:20250502T134521Z
UID:10011146-1749378600-1749670200@wellspringms.church
SUMMARY:Reclaimed: A Wellspring Revival Event
DESCRIPTION:Reclaimed is more than an event—it’s a holy invitation. In a world that leaves us tired\, numb\, and spiritually scattered\, God is calling His people back to Himself. This revival is a space to pause\, breathe\, and be restored. Over four powerful gatherings beginning on Pentecost Sunday\, we’ll open our hearts to the Spirit of God who reclaims what’s been lost\, heals what’s been wounded\, and awakens what’s grown dormant. \nJoin us as Rev. Hal Daigre leads us through a time of worship\, Word\, and renewal. Whether you’re feeling spiritually dry or deeply devoted\, Reclaimed is a chance to encounter the love that never let go—and be made new. \nCome hungry. Leave whole. \nTimes: \n\nSession 1: June 8th\, 10:30AM (Potluck to follow)\nSession 2: June 9th\, 6:00PM\nSession 3: June 10th\, 6:00PM (Frosty freeze to follow service)\nSession 4: June 11th\, 6:00PM (Lost Pizza food truck 5PM–6PM)
URL:https://wellspringms.church/event/reclaimed-a-wellspring-revival-event/
LOCATION:MS
CATEGORIES:missions
END:VEVENT
BEGIN:VEVENT
DTSTART;TZID=America/Chicago:20250611T180000
DTEND;TZID=America/Chicago:20250611T190000
DTSTAMP:20260419T085721
CREATED:20250416T150210Z
LAST-MODIFIED:20250416T150210Z
UID:10011142-1749664800-1749668400@wellspringms.church
SUMMARY:Holy Spirit Study
DESCRIPTION:Who is the Holy Spirit—and what does it mean to live a Spirit-filled life? Beginning April 23rd at 6PM\, join us for a nine-week journey through The Holy Spirit: An Introduction by Wellspring Pastor Matt Ayars and discover how God’s presence transforms everything. Don’t miss it!\nhttps://wellspringms.church/holy-spirit-study/
URL:https://wellspringms.church/event/holy-spirit-study/
LOCATION:MS
CATEGORIES:Discipleship
END:VEVENT
END:VCALENDAR