BEGIN:VCALENDAR
VERSION:2.0
PRODID:-//Wellspring Church - ECPv6.15.20//NONSGML v1.0//EN
CALSCALE:GREGORIAN
METHOD:PUBLISH
X-ORIGINAL-URL:https://wellspringms.church
X-WR-CALDESC:Events for Wellspring Church
REFRESH-INTERVAL;VALUE=DURATION:PT1H
X-Robots-Tag:noindex
X-PUBLISHED-TTL:PT1H
BEGIN:VTIMEZONE
TZID:America/Chicago
BEGIN:DAYLIGHT
TZOFFSETFROM:-0600
TZOFFSETTO:-0500
TZNAME:CDT
DTSTART:20240310T080000
END:DAYLIGHT
BEGIN:STANDARD
TZOFFSETFROM:-0500
TZOFFSETTO:-0600
TZNAME:CST
DTSTART:20241103T070000
END:STANDARD
BEGIN:DAYLIGHT
TZOFFSETFROM:-0600
TZOFFSETTO:-0500
TZNAME:CDT
DTSTART:20250309T080000
END:DAYLIGHT
BEGIN:STANDARD
TZOFFSETFROM:-0500
TZOFFSETTO:-0600
TZNAME:CST
DTSTART:20251102T070000
END:STANDARD
BEGIN:DAYLIGHT
TZOFFSETFROM:-0600
TZOFFSETTO:-0500
TZNAME:CDT
DTSTART:20260308T080000
END:DAYLIGHT
BEGIN:STANDARD
TZOFFSETFROM:-0500
TZOFFSETTO:-0600
TZNAME:CST
DTSTART:20261101T070000
END:STANDARD
END:VTIMEZONE
BEGIN:VEVENT
DTSTART;TZID=America/Chicago:20250917T120000
DTEND;TZID=America/Chicago:20250917T130000
DTSTAMP:20260421T111659
CREATED:20250212T214258Z
LAST-MODIFIED:20250216T142557Z
UID:10007324-1758110400-1758114000@wellspringms.church
SUMMARY:Silver Linings
DESCRIPTION:Silver Linings is an older adult small group that meets the third Wednesday of each month at noon at Wellspring.
URL:https://wellspringms.church/event/silver-linings-2/
LOCATION:MS
CATEGORIES:Small Group
END:VEVENT
BEGIN:VEVENT
DTSTART;TZID=America/Chicago:20250917T180000
DTEND;TZID=America/Chicago:20250917T190000
DTSTAMP:20260421T111659
CREATED:20250807T200217Z
LAST-MODIFIED:20250917T195136Z
UID:10011887-1758132000-1758135600@wellspringms.church
SUMMARY:Student Ministry Bible Study (6th-12th grade)
DESCRIPTION:Dive Deeper in our faith as we study God’s Word! \nBring a friend and your bible. \n 
URL:https://wellspringms.church/event/youth-bible-study-3-2/2025-09-17/
LOCATION:Wellspring Church\, 418 Business Park Drive\, Madison\, MS\, 39110\, United States
CATEGORIES:Youth Group
ATTACH;FMTTYPE=image/jpeg:https://wellspringms.church/wp-content/uploads/2025/09/Youth-BS-pic-scaled.jpeg
ORGANIZER;CN="Ellen Healy":MAILTO:ellen.healy@wellspringms.church
END:VEVENT
BEGIN:VEVENT
DTSTART;TZID=America/Chicago:20250917T180000
DTEND;TZID=America/Chicago:20250917T190000
DTSTAMP:20260421T111659
CREATED:20250912T165108Z
LAST-MODIFIED:20250912T170159Z
UID:10011457-1758132000-1758135600@wellspringms.church
SUMMARY:Bible Study: Revelation 20
DESCRIPTION:Join us as we dive into Revelation 20\, focusing on the Millennial Reign of Christ. We’ll explore the three major views—Premillennialism\, Amillennialism\, and Postmillennialism—and discuss their biblical foundations\, differences\, and implications for Christian hope and daily living. \nThis will be an open study with time for questions and reflection. Bring your Bible and come ready to learn together!
URL:https://wellspringms.church/event/revelation-bible-study-chapter-20-and-the-millennial-reign-of-christ/
LOCATION:Wellspring Church\, 418 Business Park Drive\, Madison\, MS\, 39110\, United States
CATEGORIES:Bible Study
ATTACH;FMTTYPE=image/jpeg:https://wellspringms.church/wp-content/uploads/2025/05/rev.001.jpeg
END:VEVENT
END:VCALENDAR