BEGIN:VCALENDAR
VERSION:2.0
PRODID:-//Wellspring Church - ECPv6.15.20//NONSGML v1.0//EN
CALSCALE:GREGORIAN
METHOD:PUBLISH
X-ORIGINAL-URL:https://wellspringms.church
X-WR-CALDESC:Events for Wellspring Church
REFRESH-INTERVAL;VALUE=DURATION:PT1H
X-Robots-Tag:noindex
X-PUBLISHED-TTL:PT1H
BEGIN:VTIMEZONE
TZID:America/Chicago
BEGIN:DAYLIGHT
TZOFFSETFROM:-0600
TZOFFSETTO:-0500
TZNAME:CDT
DTSTART:20240310T080000
END:DAYLIGHT
BEGIN:STANDARD
TZOFFSETFROM:-0500
TZOFFSETTO:-0600
TZNAME:CST
DTSTART:20241103T070000
END:STANDARD
BEGIN:DAYLIGHT
TZOFFSETFROM:-0600
TZOFFSETTO:-0500
TZNAME:CDT
DTSTART:20250309T080000
END:DAYLIGHT
BEGIN:STANDARD
TZOFFSETFROM:-0500
TZOFFSETTO:-0600
TZNAME:CST
DTSTART:20251102T070000
END:STANDARD
BEGIN:DAYLIGHT
TZOFFSETFROM:-0600
TZOFFSETTO:-0500
TZNAME:CDT
DTSTART:20260308T080000
END:DAYLIGHT
BEGIN:STANDARD
TZOFFSETFROM:-0500
TZOFFSETTO:-0600
TZNAME:CST
DTSTART:20261101T070000
END:STANDARD
END:VTIMEZONE
BEGIN:VEVENT
DTSTART;TZID=America/Chicago:20250924T080000
DTEND;TZID=America/Chicago:20250924T170000
DTSTAMP:20260421T213741
CREATED:20250912T165716Z
LAST-MODIFIED:20250912T165716Z
UID:10011458-1758700800-1758733200@wellspringms.church
SUMMARY:Bible Study: Revelation 21
DESCRIPTION:In this study\, we’ll look at the New Heaven and New Earth as described in Revelation 21. Together\, we’ll explore the beauty of the New Jerusalem\, God’s promise to dwell with His people\, and the hope of all things being made new. \nThis passage offers a powerful picture of eternal life and God’s ultimate plan of restoration. Bring your Bible and join us as we reflect on what this vision means for our faith and daily walk.
URL:https://wellspringms.church/event/bible-study-revelation-21/
LOCATION:Wellspring Church\, 418 Business Park Drive\, Madison\, MS\, 39110\, United States
CATEGORIES:Bible Study
ATTACH;FMTTYPE=image/jpeg:https://wellspringms.church/wp-content/uploads/2025/05/rev.001.jpeg
END:VEVENT
BEGIN:VEVENT
DTSTART;TZID=America/Chicago:20250924T180000
DTEND;TZID=America/Chicago:20250924T190000
DTSTAMP:20260421T213741
CREATED:20250807T200217Z
LAST-MODIFIED:20250917T195136Z
UID:10011875-1758736800-1758740400@wellspringms.church
SUMMARY:Student Ministry Bible Study (6th-12th grade)
DESCRIPTION:Dive Deeper in our faith as we study God’s Word! \nBring a friend and your bible. \n 
URL:https://wellspringms.church/event/youth-bible-study-3-2/2025-09-24/
LOCATION:Wellspring Church\, 418 Business Park Drive\, Madison\, MS\, 39110\, United States
CATEGORIES:Youth Group
ATTACH;FMTTYPE=image/jpeg:https://wellspringms.church/wp-content/uploads/2025/09/Youth-BS-pic-scaled.jpeg
ORGANIZER;CN="Ellen Healy":MAILTO:ellen.healy@wellspringms.church
END:VEVENT
END:VCALENDAR