BEGIN:VCALENDAR
VERSION:2.0
PRODID:-//Wellspring Church - ECPv6.15.20//NONSGML v1.0//EN
CALSCALE:GREGORIAN
METHOD:PUBLISH
X-ORIGINAL-URL:https://wellspringms.church
X-WR-CALDESC:Events for Wellspring Church
REFRESH-INTERVAL;VALUE=DURATION:PT1H
X-Robots-Tag:noindex
X-PUBLISHED-TTL:PT1H
BEGIN:VTIMEZONE
TZID:America/Chicago
BEGIN:DAYLIGHT
TZOFFSETFROM:-0600
TZOFFSETTO:-0500
TZNAME:CDT
DTSTART:20240310T080000
END:DAYLIGHT
BEGIN:STANDARD
TZOFFSETFROM:-0500
TZOFFSETTO:-0600
TZNAME:CST
DTSTART:20241103T070000
END:STANDARD
BEGIN:DAYLIGHT
TZOFFSETFROM:-0600
TZOFFSETTO:-0500
TZNAME:CDT
DTSTART:20250309T080000
END:DAYLIGHT
BEGIN:STANDARD
TZOFFSETFROM:-0500
TZOFFSETTO:-0600
TZNAME:CST
DTSTART:20251102T070000
END:STANDARD
BEGIN:DAYLIGHT
TZOFFSETFROM:-0600
TZOFFSETTO:-0500
TZNAME:CDT
DTSTART:20260308T080000
END:DAYLIGHT
BEGIN:STANDARD
TZOFFSETFROM:-0500
TZOFFSETTO:-0600
TZNAME:CST
DTSTART:20261101T070000
END:STANDARD
END:VTIMEZONE
BEGIN:VEVENT
DTSTART;TZID=America/Chicago:20251001T180000
DTEND;TZID=America/Chicago:20251001T190000
DTSTAMP:20260422T045959
CREATED:20250807T200217Z
LAST-MODIFIED:20250917T195136Z
UID:10011876-1759341600-1759345200@wellspringms.church
SUMMARY:Student Ministry Bible Study (6th-12th grade)
DESCRIPTION:Dive Deeper in our faith as we study God’s Word! \nBring a friend and your bible. \n 
URL:https://wellspringms.church/event/youth-bible-study-3-2/2025-10-01/
LOCATION:Wellspring Church\, 418 Business Park Drive\, Madison\, MS\, 39110\, United States
CATEGORIES:Youth Group
ATTACH;FMTTYPE=image/jpeg:https://wellspringms.church/wp-content/uploads/2025/09/Youth-BS-pic-scaled.jpeg
ORGANIZER;CN="Ellen Healy":MAILTO:ellen.healy@wellspringms.church
END:VEVENT
BEGIN:VEVENT
DTSTART;TZID=America/Chicago:20251001T180000
DTEND;TZID=America/Chicago:20251001T190000
DTSTAMP:20260422T045959
CREATED:20250912T165904Z
LAST-MODIFIED:20250912T165904Z
UID:10011459-1759341600-1759345200@wellspringms.church
SUMMARY:Bible Study: Revelation 22
DESCRIPTION:Join us as we conclude our study in the book of Revelation with chapter 22\, where we see the River of Life\, the Tree of Life\, and the final invitation of Christ. We’ll reflect on the promise of Jesus’ return\, the blessings for God’s people\, and the hope that carries us until He comes. \nThis final chapter ties together the story of Scripture and points us to the eternal joy of God’s presence. Bring your Bible as we close with encouragement and anticipation of His coming.
URL:https://wellspringms.church/event/bible-study-revelation-22/
LOCATION:Wellspring Church\, 418 Business Park Drive\, Madison\, MS\, 39110\, United States
CATEGORIES:Bible Study
ATTACH;FMTTYPE=image/jpeg:https://wellspringms.church/wp-content/uploads/2025/05/rev.001.jpeg
END:VEVENT
END:VCALENDAR