BEGIN:VCALENDAR
VERSION:2.0
PRODID:-//Wellspring Church - ECPv6.15.20//NONSGML v1.0//EN
CALSCALE:GREGORIAN
METHOD:PUBLISH
X-ORIGINAL-URL:https://wellspringms.church
X-WR-CALDESC:Events for Wellspring Church
REFRESH-INTERVAL;VALUE=DURATION:PT1H
X-Robots-Tag:noindex
X-PUBLISHED-TTL:PT1H
BEGIN:VTIMEZONE
TZID:America/Chicago
BEGIN:DAYLIGHT
TZOFFSETFROM:-0600
TZOFFSETTO:-0500
TZNAME:CDT
DTSTART:20240310T080000
END:DAYLIGHT
BEGIN:STANDARD
TZOFFSETFROM:-0500
TZOFFSETTO:-0600
TZNAME:CST
DTSTART:20241103T070000
END:STANDARD
BEGIN:DAYLIGHT
TZOFFSETFROM:-0600
TZOFFSETTO:-0500
TZNAME:CDT
DTSTART:20250309T080000
END:DAYLIGHT
BEGIN:STANDARD
TZOFFSETFROM:-0500
TZOFFSETTO:-0600
TZNAME:CST
DTSTART:20251102T070000
END:STANDARD
BEGIN:DAYLIGHT
TZOFFSETFROM:-0600
TZOFFSETTO:-0500
TZNAME:CDT
DTSTART:20260308T080000
END:DAYLIGHT
BEGIN:STANDARD
TZOFFSETFROM:-0500
TZOFFSETTO:-0600
TZNAME:CST
DTSTART:20261101T070000
END:STANDARD
END:VTIMEZONE
BEGIN:VEVENT
DTSTART;TZID=America/Chicago:20251006T180000
DTEND;TZID=America/Chicago:20251006T200000
DTSTAMP:20260422T045918
CREATED:20250909T203936Z
LAST-MODIFIED:20250909T203936Z
UID:10011446-1759773600-1759780800@wellspringms.church
SUMMARY:Session 1: Biblical Theology of Discipleship
DESCRIPTION:Session 1\, Biblical Theology of Discipleship\, explores the foundation of discipleship as revealed throughout Scripture—from God’s call to follow Him in the Old Testament to Jesus’ command to make disciples in the New. This session grounds participants in a robust\, biblical vision of discipleship as a lifelong journey of transformation\, obedience\, and mission.
URL:https://wellspringms.church/event/session-1-biblical-theology-of-discipleship/
LOCATION:Wellspring Church\, 418 Business Park Drive\, Madison\, MS\, 39110\, United States
CATEGORIES:Equipped to Disciple
ATTACH;FMTTYPE=image/jpeg:https://wellspringms.church/wp-content/uploads/2025/09/session-1.001.jpeg
ORGANIZER;CN="Matt Ayars":MAILTO:info@wellspringms.church
END:VEVENT
END:VCALENDAR