BEGIN:VCALENDAR
VERSION:2.0
PRODID:-//Wellspring Church - ECPv6.15.20//NONSGML v1.0//EN
CALSCALE:GREGORIAN
METHOD:PUBLISH
X-ORIGINAL-URL:https://wellspringms.church
X-WR-CALDESC:Events for Wellspring Church
REFRESH-INTERVAL;VALUE=DURATION:PT1H
X-Robots-Tag:noindex
X-PUBLISHED-TTL:PT1H
BEGIN:VTIMEZONE
TZID:America/Chicago
BEGIN:DAYLIGHT
TZOFFSETFROM:-0600
TZOFFSETTO:-0500
TZNAME:CDT
DTSTART:20250309T080000
END:DAYLIGHT
BEGIN:STANDARD
TZOFFSETFROM:-0500
TZOFFSETTO:-0600
TZNAME:CST
DTSTART:20251102T070000
END:STANDARD
BEGIN:DAYLIGHT
TZOFFSETFROM:-0600
TZOFFSETTO:-0500
TZNAME:CDT
DTSTART:20260308T080000
END:DAYLIGHT
BEGIN:STANDARD
TZOFFSETFROM:-0500
TZOFFSETTO:-0600
TZNAME:CST
DTSTART:20261101T070000
END:STANDARD
BEGIN:DAYLIGHT
TZOFFSETFROM:-0600
TZOFFSETTO:-0500
TZNAME:CDT
DTSTART:20270314T080000
END:DAYLIGHT
BEGIN:STANDARD
TZOFFSETFROM:-0500
TZOFFSETTO:-0600
TZNAME:CST
DTSTART:20271107T070000
END:STANDARD
END:VTIMEZONE
BEGIN:VEVENT
DTSTART;TZID=America/Chicago:20260404T100000
DTEND;TZID=America/Chicago:20260404T120000
DTSTAMP:20260421T082215
CREATED:20260114T190336Z
LAST-MODIFIED:20260301T011954Z
UID:10015778-1775296800-1775304000@wellspringms.church
SUMMARY:Easter Egg Hunt
DESCRIPTION:Celebrate the joy of new life at the Wellspring Easter Egg Hunt\, an event open to everyone in the community! It’s a wonderful opportunity to spend quality time with family and friends while enjoying a day packed with festive fun\, including face painting\, crafts\, and games. We’ll also have snacks to keep the energy up\, and our age-specific egg hunts ensure that every child—from toddlers to pre-teens—has a fair and exciting chance to find hidden treasures. Most importantly\, we gather to honor the true meaning of the season: the resurrection of Jesus Christ. Through storytelling and fellowship\, we celebrate the hope and victory found in the empty tomb. Come join us for a day of laughter\, community\, and meaningful celebration!
URL:https://wellspringms.church/event/easter-egg-hunt/
LOCATION:Wellspring Church\, 418 Business Park Drive\, Madison\, MS\, 39110\, United States
CATEGORIES:Children's Ministry
ATTACH;FMTTYPE=image/jpeg:https://wellspringms.church/wp-content/uploads/2026/01/easter-egg-hunt-slide.jpg
END:VEVENT
BEGIN:VEVENT
DTSTART;TZID=America/Chicago:20260404T160000
DTEND;TZID=America/Chicago:20260404T180000
DTSTAMP:20260421T082215
CREATED:20260114T190459Z
LAST-MODIFIED:20260114T190459Z
UID:10015779-1775318400-1775325600@wellspringms.church
SUMMARY:Easter Cross Decorating
DESCRIPTION:
URL:https://wellspringms.church/event/easter-cross-decorating/
LOCATION:Wellspring Church\, 418 Business Park Drive\, Madison\, MS\, 39110\, United States
CATEGORIES:Fellowship Event
END:VEVENT
END:VCALENDAR