BEGIN:VCALENDAR
VERSION:2.0
PRODID:-//Wellspring Church - ECPv6.15.20//NONSGML v1.0//EN
CALSCALE:GREGORIAN
METHOD:PUBLISH
X-WR-CALNAME:Wellspring Church
X-ORIGINAL-URL:https://wellspringms.church
X-WR-CALDESC:Events for Wellspring Church
REFRESH-INTERVAL;VALUE=DURATION:PT1H
X-Robots-Tag:noindex
X-PUBLISHED-TTL:PT1H
BEGIN:VTIMEZONE
TZID:America/Chicago
BEGIN:DAYLIGHT
TZOFFSETFROM:-0600
TZOFFSETTO:-0500
TZNAME:CDT
DTSTART:20250309T080000
END:DAYLIGHT
BEGIN:STANDARD
TZOFFSETFROM:-0500
TZOFFSETTO:-0600
TZNAME:CST
DTSTART:20251102T070000
END:STANDARD
BEGIN:DAYLIGHT
TZOFFSETFROM:-0600
TZOFFSETTO:-0500
TZNAME:CDT
DTSTART:20260308T080000
END:DAYLIGHT
BEGIN:STANDARD
TZOFFSETFROM:-0500
TZOFFSETTO:-0600
TZNAME:CST
DTSTART:20261101T070000
END:STANDARD
BEGIN:DAYLIGHT
TZOFFSETFROM:-0600
TZOFFSETTO:-0500
TZNAME:CDT
DTSTART:20270314T080000
END:DAYLIGHT
BEGIN:STANDARD
TZOFFSETFROM:-0500
TZOFFSETTO:-0600
TZNAME:CST
DTSTART:20271107T070000
END:STANDARD
END:VTIMEZONE
BEGIN:VEVENT
DTSTART;TZID=America/Chicago:20260406T100000
DTEND;TZID=America/Chicago:20260406T110000
DTSTAMP:20260421T111622
CREATED:20260130T041854Z
LAST-MODIFIED:20260130T041854Z
UID:10016050-1775469600-1775473200@wellspringms.church
SUMMARY:Henderson/McKinnon Growth Group
DESCRIPTION:Currently studying through Richard Foster’s The Celebration of Discipline. No book… no problem! Join us! All are welcome.
URL:https://wellspringms.church/event/henderson-mckinnon-growth-group/2026-04-06/
LOCATION:Wellspring Church\, 418 Business Park Drive\, Madison\, MS\, 39110\, United States
CATEGORIES:Small Group
END:VEVENT
BEGIN:VEVENT
DTSTART;TZID=America/Chicago:20260406T130000
DTEND;TZID=America/Chicago:20260406T133000
DTSTAMP:20260421T111622
CREATED:20251028T151919Z
LAST-MODIFIED:20251112T172854Z
UID:10014273-1775480400-1775482200@wellspringms.church
SUMMARY:Weekly Prayer Meeting
DESCRIPTION:Join us for our weekly prayer meeting at Wellspring.
URL:https://wellspringms.church/event/weekly-prayer-meeting-2/2026-04-06/
LOCATION:Wellspring Church\, 418 Business Park Drive\, Madison\, MS\, 39110\, United States
CATEGORIES:Meetings,Prayer
ATTACH;FMTTYPE=image/jpeg:https://wellspringms.church/wp-content/uploads/2025/10/jeremy-yap-eCEj-BR91xQ-unsplash-scaled.jpg
ORGANIZER;CN="Stacey Ayars":MAILTO:stacey.ayars@wellspringms.church
END:VEVENT
BEGIN:VEVENT
DTSTART;TZID=America/Chicago:20260406T180000
DTEND;TZID=America/Chicago:20260406T200000
DTSTAMP:20260421T111622
CREATED:20250909T211259Z
LAST-MODIFIED:20251231T134830Z
UID:10011450-1775498400-1775505600@wellspringms.church
SUMMARY:Session 5: Teaching & Leading Bible-Centered Discussions
DESCRIPTION:Session 5\, Teaching and Leading Bible-Centered Discussions\, trains disciple-makers to engage Scripture with clarity\, faithfulness\, and relevance. This session emphasizes guiding others into deeper understanding and application of God’s Word through thoughtful\, Spirit-led conversation—not just lecture or content delivery.
URL:https://wellspringms.church/event/session-5-teaching-leading-bible-centered-discussions/
LOCATION:Wellspring Church\, 418 Business Park Drive\, Madison\, MS\, 39110\, United States
CATEGORIES:Equipped to Disciple
ATTACH;FMTTYPE=image/jpeg:https://wellspringms.church/wp-content/uploads/2025/09/Equipped-to-disciple-graphic.002-1.jpeg
ORGANIZER;CN="Matt Ayars":MAILTO:info@wellspringms.church
END:VEVENT
BEGIN:VEVENT
DTSTART;TZID=America/Chicago:20260406T180000
DTEND;TZID=America/Chicago:20260406T200000
DTSTAMP:20260421T111622
CREATED:20250909T211432Z
LAST-MODIFIED:20251231T135231Z
UID:10011451-1775498400-1775505600@wellspringms.church
SUMMARY:Session 6: Prayer & Pastoral Care in Small Groups
DESCRIPTION:Session 6\, Prayer and Pastoral Care in Small Groups\, explores how disciple-makers can create spiritually nurturing environments through intentional prayer and compassionate care. This session equips leaders to shepherd group members with sensitivity\, offer meaningful spiritual support\, and lead prayer in ways that foster trust\, healing\, and deeper intimacy with God.
URL:https://wellspringms.church/event/session-6-prayer-pastoral-care-in-small-groups/
LOCATION:Wellspring Church\, 418 Business Park Drive\, Madison\, MS\, 39110\, United States
CATEGORIES:Equipped to Disciple
ATTACH;FMTTYPE=image/jpeg:https://wellspringms.church/wp-content/uploads/2025/09/Equipped-to-disciple-graphic.003.jpeg
ORGANIZER;CN="Matt Ayars":MAILTO:info@wellspringms.church
END:VEVENT
BEGIN:VEVENT
DTSTART;TZID=America/Chicago:20260406T180000
DTEND;TZID=America/Chicago:20260406T200000
DTSTAMP:20260421T111622
CREATED:20250909T211642Z
LAST-MODIFIED:20250909T211642Z
UID:10011452-1775498400-1775505600@wellspringms.church
SUMMARY:Session 7: Multiplying Disciples & Leaders
DESCRIPTION:Session 7\, Multiplying Disciples and Leaders\, focuses on the essential mission of reproducing disciples who make disciples. This session equips leaders to identify\, invest in\, and release others for leadership\, creating a sustainable culture of multiplication that advances the Kingdom beyond a single group or leader.
URL:https://wellspringms.church/event/session-7-multiplying-disciples-leaders/
LOCATION:Wellspring Church\, 418 Business Park Drive\, Madison\, MS\, 39110\, United States
CATEGORIES:Equipped to Disciple
ATTACH;FMTTYPE=image/jpeg:https://wellspringms.church/wp-content/uploads/2025/09/session-7.001.jpeg
ORGANIZER;CN="Matt Ayars":MAILTO:info@wellspringms.church
END:VEVENT
END:VCALENDAR