BEGIN:VCALENDAR
VERSION:2.0
PRODID:-//Wellspring Church - ECPv6.15.20//NONSGML v1.0//EN
CALSCALE:GREGORIAN
METHOD:PUBLISH
X-ORIGINAL-URL:https://wellspringms.church
X-WR-CALDESC:Events for Wellspring Church
REFRESH-INTERVAL;VALUE=DURATION:PT1H
X-Robots-Tag:noindex
X-PUBLISHED-TTL:PT1H
BEGIN:VTIMEZONE
TZID:America/Chicago
BEGIN:DAYLIGHT
TZOFFSETFROM:-0600
TZOFFSETTO:-0500
TZNAME:CDT
DTSTART:20250309T080000
END:DAYLIGHT
BEGIN:STANDARD
TZOFFSETFROM:-0500
TZOFFSETTO:-0600
TZNAME:CST
DTSTART:20251102T070000
END:STANDARD
BEGIN:DAYLIGHT
TZOFFSETFROM:-0600
TZOFFSETTO:-0500
TZNAME:CDT
DTSTART:20260308T080000
END:DAYLIGHT
BEGIN:STANDARD
TZOFFSETFROM:-0500
TZOFFSETTO:-0600
TZNAME:CST
DTSTART:20261101T070000
END:STANDARD
BEGIN:DAYLIGHT
TZOFFSETFROM:-0600
TZOFFSETTO:-0500
TZNAME:CDT
DTSTART:20270314T080000
END:DAYLIGHT
BEGIN:STANDARD
TZOFFSETFROM:-0500
TZOFFSETTO:-0600
TZNAME:CST
DTSTART:20271107T070000
END:STANDARD
END:VTIMEZONE
BEGIN:VEVENT
DTSTART;VALUE=DATE:20260706
DTEND;VALUE=DATE:20260711
DTSTAMP:20260424T193533
CREATED:20250331T032142Z
LAST-MODIFIED:20260115T181304Z
UID:10011134-1783296000-1783727999@wellspringms.church
SUMMARY:Student Ministry Summer Camp - Camp Table Rock
DESCRIPTION:Wellspring Student Ministry is attending ‘Fun in the Son Ministries – Reality Check’ at Camp Table Rock. \nFun in the Son Ministries is a non-denominational youth ministry organization founded for the sole purpose of reaching today’s youth for Jesus Christ. We believe that every youth camp should be a life changing experience filled with a rock solid Biblical training. \nWhere: Camp Table Rock – Shell Knob\, MO
URL:https://wellspringms.church/event/youth-summer-camp-camp-table-rock/
LOCATION:Wellspring Church\, 418 Business Park Drive\, Madison\, MS\, 39110\, United States
CATEGORIES:Youth Group
ATTACH;FMTTYPE=image/png:https://wellspringms.church/wp-content/uploads/2025/03/Camp-Table-Rock-Christian-Youth-Camp-Southwest-Missouri.png
ORGANIZER;CN="Ellen Healy":MAILTO:ellen.healy@wellspringms.church
END:VEVENT
BEGIN:VEVENT
DTSTART;TZID=America/Chicago:20260706T100000
DTEND;TZID=America/Chicago:20260706T110000
DTSTAMP:20260424T193533
CREATED:20260130T041854Z
LAST-MODIFIED:20260130T041854Z
UID:10016063-1783332000-1783335600@wellspringms.church
SUMMARY:Henderson/McKinnon Growth Group
DESCRIPTION:Currently studying through Richard Foster’s The Celebration of Discipline. No book… no problem! Join us! All are welcome.
URL:https://wellspringms.church/event/henderson-mckinnon-growth-group/2026-07-06/
LOCATION:Wellspring Church\, 418 Business Park Drive\, Madison\, MS\, 39110\, United States
CATEGORIES:Small Group
END:VEVENT
BEGIN:VEVENT
DTSTART;TZID=America/Chicago:20260706T130000
DTEND;TZID=America/Chicago:20260706T133000
DTSTAMP:20260424T193533
CREATED:20251028T151919Z
LAST-MODIFIED:20251112T172854Z
UID:10014286-1783342800-1783344600@wellspringms.church
SUMMARY:Weekly Prayer Meeting
DESCRIPTION:Join us for our weekly prayer meeting at Wellspring.
URL:https://wellspringms.church/event/weekly-prayer-meeting-2/2026-07-06/
LOCATION:Wellspring Church\, 418 Business Park Drive\, Madison\, MS\, 39110\, United States
CATEGORIES:Meetings,Prayer
ATTACH;FMTTYPE=image/jpeg:https://wellspringms.church/wp-content/uploads/2025/10/jeremy-yap-eCEj-BR91xQ-unsplash-scaled.jpg
ORGANIZER;CN="Stacey Ayars":MAILTO:stacey.ayars@wellspringms.church
END:VEVENT
END:VCALENDAR