BEGIN:VCALENDAR
VERSION:2.0
PRODID:-//Wellspring Church - ECPv6.15.20//NONSGML v1.0//EN
CALSCALE:GREGORIAN
METHOD:PUBLISH
X-WR-CALNAME:Wellspring Church
X-ORIGINAL-URL:https://wellspringms.church
X-WR-CALDESC:Events for Wellspring Church
REFRESH-INTERVAL;VALUE=DURATION:PT1H
X-Robots-Tag:noindex
X-PUBLISHED-TTL:PT1H
BEGIN:VTIMEZONE
TZID:America/Chicago
BEGIN:DAYLIGHT
TZOFFSETFROM:-0600
TZOFFSETTO:-0500
TZNAME:CDT
DTSTART:20250309T080000
END:DAYLIGHT
BEGIN:STANDARD
TZOFFSETFROM:-0500
TZOFFSETTO:-0600
TZNAME:CST
DTSTART:20251102T070000
END:STANDARD
BEGIN:DAYLIGHT
TZOFFSETFROM:-0600
TZOFFSETTO:-0500
TZNAME:CDT
DTSTART:20260308T080000
END:DAYLIGHT
BEGIN:STANDARD
TZOFFSETFROM:-0500
TZOFFSETTO:-0600
TZNAME:CST
DTSTART:20261101T070000
END:STANDARD
BEGIN:DAYLIGHT
TZOFFSETFROM:-0600
TZOFFSETTO:-0500
TZNAME:CDT
DTSTART:20270314T080000
END:DAYLIGHT
BEGIN:STANDARD
TZOFFSETFROM:-0500
TZOFFSETTO:-0600
TZNAME:CST
DTSTART:20271107T070000
END:STANDARD
END:VTIMEZONE
BEGIN:VEVENT
DTSTART;TZID=America/Chicago:20260506T190000
DTEND;TZID=America/Chicago:20260506T200000
DTSTAMP:20260422T205732
CREATED:20260423T012553Z
LAST-MODIFIED:20260423T012902Z
UID:10016478-1778094000-1778097600@wellspringms.church
SUMMARY:Wellspring Choir Practice
DESCRIPTION:Stick around for Choir Practice following Bible Study every Wednesday night around 7:15 PM! Talk to Terry Parrish for more information!
URL:https://wellspringms.church/event/wellspring-choir-practice/2026-05-06/
LOCATION:Wellspring Church\, 418 Business Park Drive\, Madison\, MS\, 39110\, United States
CATEGORIES:Fellowship Event,Rehearsal
ATTACH;FMTTYPE=image/jpeg:https://wellspringms.church/wp-content/uploads/2026/04/IMG_0964.jpeg
END:VEVENT
BEGIN:VEVENT
DTSTART;TZID=America/Chicago:20260513T190000
DTEND;TZID=America/Chicago:20260513T200000
DTSTAMP:20260422T205732
CREATED:20260423T012553Z
LAST-MODIFIED:20260423T012902Z
UID:10016479-1778698800-1778702400@wellspringms.church
SUMMARY:Wellspring Choir Practice
DESCRIPTION:Stick around for Choir Practice following Bible Study every Wednesday night around 7:15 PM! Talk to Terry Parrish for more information!
URL:https://wellspringms.church/event/wellspring-choir-practice/2026-05-13/
LOCATION:Wellspring Church\, 418 Business Park Drive\, Madison\, MS\, 39110\, United States
CATEGORIES:Fellowship Event,Rehearsal
ATTACH;FMTTYPE=image/jpeg:https://wellspringms.church/wp-content/uploads/2026/04/IMG_0964.jpeg
END:VEVENT
BEGIN:VEVENT
DTSTART;TZID=America/Chicago:20260520T190000
DTEND;TZID=America/Chicago:20260520T200000
DTSTAMP:20260422T205732
CREATED:20260423T012553Z
LAST-MODIFIED:20260423T012902Z
UID:10016480-1779303600-1779307200@wellspringms.church
SUMMARY:Wellspring Choir Practice
DESCRIPTION:Stick around for Choir Practice following Bible Study every Wednesday night around 7:15 PM! Talk to Terry Parrish for more information!
URL:https://wellspringms.church/event/wellspring-choir-practice/2026-05-20/
LOCATION:Wellspring Church\, 418 Business Park Drive\, Madison\, MS\, 39110\, United States
CATEGORIES:Fellowship Event,Rehearsal
ATTACH;FMTTYPE=image/jpeg:https://wellspringms.church/wp-content/uploads/2026/04/IMG_0964.jpeg
END:VEVENT
BEGIN:VEVENT
DTSTART;TZID=America/Chicago:20260527T190000
DTEND;TZID=America/Chicago:20260527T200000
DTSTAMP:20260422T205732
CREATED:20260423T012553Z
LAST-MODIFIED:20260423T012902Z
UID:10016481-1779908400-1779912000@wellspringms.church
SUMMARY:Wellspring Choir Practice
DESCRIPTION:Stick around for Choir Practice following Bible Study every Wednesday night around 7:15 PM! Talk to Terry Parrish for more information!
URL:https://wellspringms.church/event/wellspring-choir-practice/2026-05-27/
LOCATION:Wellspring Church\, 418 Business Park Drive\, Madison\, MS\, 39110\, United States
CATEGORIES:Fellowship Event,Rehearsal
ATTACH;FMTTYPE=image/jpeg:https://wellspringms.church/wp-content/uploads/2026/04/IMG_0964.jpeg
END:VEVENT
END:VCALENDAR