BEGIN:VCALENDAR
VERSION:2.0
PRODID:-//Wellspring Church - ECPv6.15.20//NONSGML v1.0//EN
CALSCALE:GREGORIAN
METHOD:PUBLISH
X-WR-CALNAME:Wellspring Church
X-ORIGINAL-URL:https://wellspringms.church
X-WR-CALDESC:Events for Wellspring Church
REFRESH-INTERVAL;VALUE=DURATION:PT1H
X-Robots-Tag:noindex
X-PUBLISHED-TTL:PT1H
BEGIN:VTIMEZONE
TZID:America/Chicago
BEGIN:DAYLIGHT
TZOFFSETFROM:-0600
TZOFFSETTO:-0500
TZNAME:CDT
DTSTART:20230312T080000
END:DAYLIGHT
BEGIN:STANDARD
TZOFFSETFROM:-0500
TZOFFSETTO:-0600
TZNAME:CST
DTSTART:20231105T070000
END:STANDARD
BEGIN:DAYLIGHT
TZOFFSETFROM:-0600
TZOFFSETTO:-0500
TZNAME:CDT
DTSTART:20240310T080000
END:DAYLIGHT
BEGIN:STANDARD
TZOFFSETFROM:-0500
TZOFFSETTO:-0600
TZNAME:CST
DTSTART:20241103T070000
END:STANDARD
BEGIN:DAYLIGHT
TZOFFSETFROM:-0600
TZOFFSETTO:-0500
TZNAME:CDT
DTSTART:20250309T080000
END:DAYLIGHT
BEGIN:STANDARD
TZOFFSETFROM:-0500
TZOFFSETTO:-0600
TZNAME:CST
DTSTART:20251102T070000
END:STANDARD
END:VTIMEZONE
BEGIN:VEVENT
DTSTART;VALUE=DATE:20240706
DTEND;VALUE=DATE:20240710
DTSTAMP:20260424T154749
CREATED:20240630T205338Z
LAST-MODIFIED:20240630T205338Z
UID:10006776-1720224000-1720569599@wellspringms.church
SUMMARY:Youth Trip
DESCRIPTION:M28\, 2024
URL:https://wellspringms.church/event/youth-trip/
LOCATION:MS
CATEGORIES:Youth Group
ATTACH;FMTTYPE=image/jpeg:https://wellspringms.church/wp-content/uploads/2024/04/bree-anne-1vR0TtVM9bo-unsplash-scaled.jpg
END:VEVENT
BEGIN:VEVENT
DTSTART;TZID=America/Chicago:20240707T183000
DTEND;TZID=America/Chicago:20240707T203000
DTSTAMP:20260424T154749
CREATED:20240630T212208Z
LAST-MODIFIED:20240719T153104Z
UID:10007297-1720377000-1720384200@wellspringms.church
SUMMARY:Youth Restaurant Takeover
DESCRIPTION:Youth invited to dinner after worship each week.
URL:https://wellspringms.church/event/youth-restaurant-takeover-2/2024-07-07/
LOCATION:MS
CATEGORIES:Youth Group
ATTACH;FMTTYPE=image/jpeg:https://wellspringms.church/wp-content/uploads/2024/06/alexis-brown-Xv7k95vOFA-unsplash-scaled.jpg
END:VEVENT
BEGIN:VEVENT
DTSTART;TZID=America/Chicago:20240710T180000
DTEND;TZID=America/Chicago:20240710T200000
DTSTAMP:20260424T154749
CREATED:20240702T152953Z
LAST-MODIFIED:20240705T153035Z
UID:10004165-1720634400-1720641600@wellspringms.church
SUMMARY:Youth Bible Study
DESCRIPTION:Dive Deeper in our faith as we study God’s Word! \nBring a friend and your bible. \nWe will meet at different locations each week\, so be sure to check our youth insta page for detai
URL:https://wellspringms.church/event/youth-bible-study-2-2-2/2024-07-10/
LOCATION:MS
CATEGORIES:Youth Group
ATTACH;FMTTYPE=image/jpeg:https://wellspringms.church/wp-content/uploads/2024/07/Youth-bible-study.jpg
END:VEVENT
BEGIN:VEVENT
DTSTART;TZID=America/Chicago:20240714T183000
DTEND;TZID=America/Chicago:20240714T203000
DTSTAMP:20260424T154749
CREATED:20240630T212208Z
LAST-MODIFIED:20240719T153104Z
UID:10007038-1720981800-1720989000@wellspringms.church
SUMMARY:Youth Restaurant Takeover
DESCRIPTION:Youth invited to dinner after worship each week.
URL:https://wellspringms.church/event/youth-restaurant-takeover-2/2024-07-14/
LOCATION:MS
CATEGORIES:Youth Group
ATTACH;FMTTYPE=image/jpeg:https://wellspringms.church/wp-content/uploads/2024/06/alexis-brown-Xv7k95vOFA-unsplash-scaled.jpg
END:VEVENT
BEGIN:VEVENT
DTSTART;TZID=America/Chicago:20240717T180000
DTEND;TZID=America/Chicago:20240717T200000
DTSTAMP:20260424T154749
CREATED:20240702T152953Z
LAST-MODIFIED:20240705T153035Z
UID:10007302-1721239200-1721246400@wellspringms.church
SUMMARY:Youth Bible Study
DESCRIPTION:Dive Deeper in our faith as we study God’s Word! \nBring a friend and your bible. \nWe will meet at different locations each week\, so be sure to check our youth insta page for detai
URL:https://wellspringms.church/event/youth-bible-study-2-2-2/2024-07-17/
LOCATION:MS
CATEGORIES:Youth Group
ATTACH;FMTTYPE=image/jpeg:https://wellspringms.church/wp-content/uploads/2024/07/Youth-bible-study.jpg
END:VEVENT
BEGIN:VEVENT
DTSTART;TZID=America/Chicago:20240718T083000
DTEND;TZID=America/Chicago:20240718T143000
DTSTAMP:20260424T154749
CREATED:20240702T155259Z
LAST-MODIFIED:20240702T221234Z
UID:10007303-1721291400-1721313000@wellspringms.church
SUMMARY:Youth Service Day
DESCRIPTION:Join us as the youth go out to Hope Hollow and help with day camp. \nBring bag lunch and lots of water.
URL:https://wellspringms.church/event/youth-service-day-3/
LOCATION:MS
CATEGORIES:Youth Group
ATTACH;FMTTYPE=image/jpeg:https://wellspringms.church/wp-content/uploads/2024/07/Hope-Hollow-Logo-Full-Color.jpg
ORGANIZER;CN="Ellen Healy":MAILTO:ellen.healy@wellspringms.church
END:VEVENT
BEGIN:VEVENT
DTSTART;TZID=America/Chicago:20240721T183000
DTEND;TZID=America/Chicago:20240721T203000
DTSTAMP:20260424T154749
CREATED:20240630T212208Z
LAST-MODIFIED:20240719T153104Z
UID:10007039-1721586600-1721593800@wellspringms.church
SUMMARY:Youth Restaurant Takeover
DESCRIPTION:Youth invited to dinner after worship each week.
URL:https://wellspringms.church/event/youth-restaurant-takeover-2/2024-07-21/
LOCATION:MS
CATEGORIES:Youth Group
ATTACH;FMTTYPE=image/jpeg:https://wellspringms.church/wp-content/uploads/2024/06/alexis-brown-Xv7k95vOFA-unsplash-scaled.jpg
END:VEVENT
BEGIN:VEVENT
DTSTART;TZID=America/Chicago:20240724T180000
DTEND;TZID=America/Chicago:20240724T200000
DTSTAMP:20260424T154749
CREATED:20240702T152953Z
LAST-MODIFIED:20240705T153035Z
UID:10004164-1721844000-1721851200@wellspringms.church
SUMMARY:Youth Bible Study
DESCRIPTION:Dive Deeper in our faith as we study God’s Word! \nBring a friend and your bible. \nWe will meet at different locations each week\, so be sure to check our youth insta page for detai
URL:https://wellspringms.church/event/youth-bible-study-2-2-2/2024-07-24/
LOCATION:MS
CATEGORIES:Youth Group
ATTACH;FMTTYPE=image/jpeg:https://wellspringms.church/wp-content/uploads/2024/07/Youth-bible-study.jpg
END:VEVENT
BEGIN:VEVENT
DTSTART;TZID=America/Chicago:20240728T183000
DTEND;TZID=America/Chicago:20240728T203000
DTSTAMP:20260424T154749
CREATED:20240630T212208Z
LAST-MODIFIED:20240719T153104Z
UID:10007040-1722191400-1722198600@wellspringms.church
SUMMARY:Youth Restaurant Takeover
DESCRIPTION:Youth invited to dinner after worship each week.
URL:https://wellspringms.church/event/youth-restaurant-takeover-2/2024-07-28/
LOCATION:MS
CATEGORIES:Youth Group
ATTACH;FMTTYPE=image/jpeg:https://wellspringms.church/wp-content/uploads/2024/06/alexis-brown-Xv7k95vOFA-unsplash-scaled.jpg
END:VEVENT
END:VCALENDAR