BEGIN:VCALENDAR
VERSION:2.0
PRODID:-//Wellspring Church - ECPv6.15.20//NONSGML v1.0//EN
CALSCALE:GREGORIAN
METHOD:PUBLISH
X-ORIGINAL-URL:https://wellspringms.church
X-WR-CALDESC:Events for Wellspring Church
REFRESH-INTERVAL;VALUE=DURATION:PT1H
X-Robots-Tag:noindex
X-PUBLISHED-TTL:PT1H
BEGIN:VTIMEZONE
TZID:America/Chicago
BEGIN:DAYLIGHT
TZOFFSETFROM:-0600
TZOFFSETTO:-0500
TZNAME:CDT
DTSTART:20230312T080000
END:DAYLIGHT
BEGIN:STANDARD
TZOFFSETFROM:-0500
TZOFFSETTO:-0600
TZNAME:CST
DTSTART:20231105T070000
END:STANDARD
BEGIN:DAYLIGHT
TZOFFSETFROM:-0600
TZOFFSETTO:-0500
TZNAME:CDT
DTSTART:20240310T080000
END:DAYLIGHT
BEGIN:STANDARD
TZOFFSETFROM:-0500
TZOFFSETTO:-0600
TZNAME:CST
DTSTART:20241103T070000
END:STANDARD
BEGIN:DAYLIGHT
TZOFFSETFROM:-0600
TZOFFSETTO:-0500
TZNAME:CDT
DTSTART:20250309T080000
END:DAYLIGHT
BEGIN:STANDARD
TZOFFSETFROM:-0500
TZOFFSETTO:-0600
TZNAME:CST
DTSTART:20251102T070000
END:STANDARD
END:VTIMEZONE
BEGIN:VEVENT
DTSTART;VALUE=DATE:20240706
DTEND;VALUE=DATE:20240710
DTSTAMP:20260424T211242
CREATED:20240630T205338Z
LAST-MODIFIED:20240630T205338Z
UID:10006776-1720224000-1720569599@wellspringms.church
SUMMARY:Youth Trip
DESCRIPTION:M28\, 2024
URL:https://wellspringms.church/event/youth-trip/
LOCATION:MS
CATEGORIES:Youth Group
ATTACH;FMTTYPE=image/jpeg:https://wellspringms.church/wp-content/uploads/2024/04/bree-anne-1vR0TtVM9bo-unsplash-scaled.jpg
END:VEVENT
BEGIN:VEVENT
DTSTART;TZID=America/Chicago:20240707T183000
DTEND;TZID=America/Chicago:20240707T203000
DTSTAMP:20260424T211242
CREATED:20240630T212208Z
LAST-MODIFIED:20240719T153104Z
UID:10007297-1720377000-1720384200@wellspringms.church
SUMMARY:Youth Restaurant Takeover
DESCRIPTION:Youth invited to dinner after worship each week.
URL:https://wellspringms.church/event/youth-restaurant-takeover-2/2024-07-07/
LOCATION:MS
CATEGORIES:Youth Group
ATTACH;FMTTYPE=image/jpeg:https://wellspringms.church/wp-content/uploads/2024/06/alexis-brown-Xv7k95vOFA-unsplash-scaled.jpg
END:VEVENT
END:VCALENDAR