BEGIN:VCALENDAR
VERSION:2.0
PRODID:-//Wellspring Church - ECPv6.15.20//NONSGML v1.0//EN
CALSCALE:GREGORIAN
METHOD:PUBLISH
X-WR-CALNAME:Wellspring Church
X-ORIGINAL-URL:https://wellspringms.church
X-WR-CALDESC:Events for Wellspring Church
REFRESH-INTERVAL;VALUE=DURATION:PT1H
X-Robots-Tag:noindex
X-PUBLISHED-TTL:PT1H
BEGIN:VTIMEZONE
TZID:America/Chicago
BEGIN:DAYLIGHT
TZOFFSETFROM:-0600
TZOFFSETTO:-0500
TZNAME:CDT
DTSTART:20230312T080000
END:DAYLIGHT
BEGIN:STANDARD
TZOFFSETFROM:-0500
TZOFFSETTO:-0600
TZNAME:CST
DTSTART:20231105T070000
END:STANDARD
BEGIN:DAYLIGHT
TZOFFSETFROM:-0600
TZOFFSETTO:-0500
TZNAME:CDT
DTSTART:20240310T080000
END:DAYLIGHT
BEGIN:STANDARD
TZOFFSETFROM:-0500
TZOFFSETTO:-0600
TZNAME:CST
DTSTART:20241103T070000
END:STANDARD
BEGIN:DAYLIGHT
TZOFFSETFROM:-0600
TZOFFSETTO:-0500
TZNAME:CDT
DTSTART:20250309T080000
END:DAYLIGHT
BEGIN:STANDARD
TZOFFSETFROM:-0500
TZOFFSETTO:-0600
TZNAME:CST
DTSTART:20251102T070000
END:STANDARD
END:VTIMEZONE
BEGIN:VEVENT
DTSTART;TZID=America/Chicago:20240621T030000
DTEND;TZID=America/Chicago:20240621T083000
DTSTAMP:20260423T005814
CREATED:20240523T100822Z
LAST-MODIFIED:20240523T100822Z
UID:10002316-1718938800-1718958600@wellspringms.church
SUMMARY:Youth Service Day
DESCRIPTION:Join us as we go serve at Shower Power in Jackson \nWe will meet at Ellen’s house (11 Brookside Place Madison) \nand ride to Shower Power together.
URL:https://wellspringms.church/event/youth-service-day-2/
LOCATION:MS
CATEGORIES:Youth Group
ORGANIZER;CN="Ellen Healy":MAILTO:ellen.healy@wellspringms.church
END:VEVENT
BEGIN:VEVENT
DTSTART;TZID=America/Chicago:20240620T130000
DTEND;TZID=America/Chicago:20240620T140000
DTSTAMP:20260423T005814
CREATED:20240501T224202Z
LAST-MODIFIED:20240626T224541Z
UID:10002022-1718888400-1718892000@wellspringms.church
SUMMARY:What Is Methodism?
DESCRIPTION:What does it mean to be a Methodist? What does “Wesleyan-Arminian” mean? What is “entire sanctification”? How are Methodists different from other denominations (e.g.\, Presbyterians\, Baptists\, Anglicans\, etc.)? As we prepare for denominational affiliation we will be exploring the historical and theological distinctive of Methodism. Join us as we gather together to answer questions about methodism during this critical moment in Methodist history!
URL:https://wellspringms.church/event/what-is-methodism/2024-06-20/
LOCATION:MS\, 39110\, United States
CATEGORIES:Discipleship
ATTACH;FMTTYPE=image/png:https://wellspringms.church/wp-content/uploads/2024/04/Screenshot-2024-04-25-at-10.45.12 AM.png
ORGANIZER;CN="Matt Ayars":MAILTO:info@wellspringms.church
END:VEVENT
BEGIN:VEVENT
DTSTART;TZID=America/Chicago:20240619T130000
DTEND;TZID=America/Chicago:20240619T150000
DTSTAMP:20260423T005814
CREATED:20240523T094046Z
LAST-MODIFIED:20240523T095627Z
UID:10002306-1718802000-1718809200@wellspringms.church
SUMMARY:Youth Bible Study
DESCRIPTION:Dive Deeper in our faith as we study God’s Word! \nBring a friend and your bible. \nWe will meet at different locations each week\, so be sure to check our youth insta page for details. \n 
URL:https://wellspringms.church/event/youth-bible-study/2024-06-19/
LOCATION:MS
CATEGORIES:Youth Group
END:VEVENT
BEGIN:VEVENT
DTSTART;TZID=America/Chicago:20240619T120000
DTEND;TZID=America/Chicago:20240619T130000
DTSTAMP:20260423T005814
CREATED:20240410T211400Z
LAST-MODIFIED:20240903T221313Z
UID:10007309-1718798400-1718802000@wellspringms.church
SUMMARY:Silver Linings
DESCRIPTION:Silver Linings is an older adult small group that meets the third Wednesday of each month at noon at Chicken Salad Chick in Madison.
URL:https://wellspringms.church/event/silver-linings/2024-06-19/
LOCATION:Chicken Salad Chick\, 1917 Main St\, Madison\, MS\, 39110\, United States
CATEGORIES:Small Group
ATTACH;FMTTYPE=image/jpeg:https://wellspringms.church/wp-content/uploads/2024/04/Silver-Linings-group-shot.jpg
END:VEVENT
BEGIN:VEVENT
DTSTART;TZID=America/Chicago:20240618T153000
DTEND;TZID=America/Chicago:20240618T163000
DTSTAMP:20260423T005814
CREATED:20240529T003216Z
LAST-MODIFIED:20240628T210925Z
UID:10004172-1718724600-1718728200@wellspringms.church
SUMMARY:Ladies Bible Study
DESCRIPTION:
URL:https://wellspringms.church/event/ladies-bible-study/2024-06-18/
LOCATION:MS
CATEGORIES:Discipleship
ATTACH;FMTTYPE=image/jpeg:https://wellspringms.church/wp-content/uploads/2024/04/aaron-burden-TNlHf4m4gpI-unsplash-scaled.jpg
END:VEVENT
BEGIN:VEVENT
DTSTART;TZID=America/Chicago:20240617T180000
DTEND;TZID=America/Chicago:20240617T193000
DTSTAMP:20260423T005814
CREATED:20240513T230034Z
LAST-MODIFIED:20240719T151716Z
UID:10007457-1718647200-1718652600@wellspringms.church
SUMMARY:Outreach/Evangelism meeting
DESCRIPTION:
URL:https://wellspringms.church/event/outreach-evangelism-meeting/2024-06-17/
LOCATION:Healy Home\, 11 Brookside Place\, Madison\, MS\, 39110\, United States
CATEGORIES:missions
END:VEVENT
BEGIN:VEVENT
DTSTART;TZID=America/Chicago:20240613T130000
DTEND;TZID=America/Chicago:20240613T140000
DTSTAMP:20260423T005814
CREATED:20240501T224202Z
LAST-MODIFIED:20240626T224541Z
UID:10002021-1718283600-1718287200@wellspringms.church
SUMMARY:What Is Methodism?
DESCRIPTION:What does it mean to be a Methodist? What does “Wesleyan-Arminian” mean? What is “entire sanctification”? How are Methodists different from other denominations (e.g.\, Presbyterians\, Baptists\, Anglicans\, etc.)? As we prepare for denominational affiliation we will be exploring the historical and theological distinctive of Methodism. Join us as we gather together to answer questions about methodism during this critical moment in Methodist history!
URL:https://wellspringms.church/event/what-is-methodism/2024-06-13/
LOCATION:MS\, 39110\, United States
CATEGORIES:Discipleship
ATTACH;FMTTYPE=image/png:https://wellspringms.church/wp-content/uploads/2024/04/Screenshot-2024-04-25-at-10.45.12 AM.png
ORGANIZER;CN="Matt Ayars":MAILTO:info@wellspringms.church
END:VEVENT
BEGIN:VEVENT
DTSTART;TZID=America/Chicago:20240612T130000
DTEND;TZID=America/Chicago:20240612T150000
DTSTAMP:20260423T005814
CREATED:20240523T094046Z
LAST-MODIFIED:20240523T095627Z
UID:10002305-1718197200-1718204400@wellspringms.church
SUMMARY:Youth Bible Study
DESCRIPTION:Dive Deeper in our faith as we study God’s Word! \nBring a friend and your bible. \nWe will meet at different locations each week\, so be sure to check our youth insta page for details. \n 
URL:https://wellspringms.church/event/youth-bible-study/2024-06-12/
LOCATION:MS
CATEGORIES:Youth Group
END:VEVENT
BEGIN:VEVENT
DTSTART;TZID=America/Chicago:20240611T153000
DTEND;TZID=America/Chicago:20240611T163000
DTSTAMP:20260423T005814
CREATED:20240529T003216Z
LAST-MODIFIED:20240628T210925Z
UID:10004171-1718119800-1718123400@wellspringms.church
SUMMARY:Ladies Bible Study
DESCRIPTION:
URL:https://wellspringms.church/event/ladies-bible-study/2024-06-11/
LOCATION:MS
CATEGORIES:Discipleship
ATTACH;FMTTYPE=image/jpeg:https://wellspringms.church/wp-content/uploads/2024/04/aaron-burden-TNlHf4m4gpI-unsplash-scaled.jpg
END:VEVENT
BEGIN:VEVENT
DTSTART;TZID=America/Chicago:20240609T133000
DTEND;TZID=America/Chicago:20240609T153000
DTSTAMP:20260423T005814
CREATED:20240523T101216Z
LAST-MODIFIED:20240523T101605Z
UID:10002317-1717939800-1717947000@wellspringms.church
SUMMARY:Youth Restaurant Takeover
DESCRIPTION:Join us as we go out to eat after worship on Sunday evenings. \nSupper location will be announced the Friday before on Socials.
URL:https://wellspringms.church/event/youth-restaurant-takeover/
LOCATION:MS
CATEGORIES:Youth Group
ORGANIZER;CN="Ellen Healy":MAILTO:ellen.healy@wellspringms.church
END:VEVENT
BEGIN:VEVENT
DTSTART;TZID=America/Chicago:20240606T130000
DTEND;TZID=America/Chicago:20240606T140000
DTSTAMP:20260423T005814
CREATED:20240501T224202Z
LAST-MODIFIED:20240626T224541Z
UID:10002020-1717678800-1717682400@wellspringms.church
SUMMARY:What Is Methodism?
DESCRIPTION:What does it mean to be a Methodist? What does “Wesleyan-Arminian” mean? What is “entire sanctification”? How are Methodists different from other denominations (e.g.\, Presbyterians\, Baptists\, Anglicans\, etc.)? As we prepare for denominational affiliation we will be exploring the historical and theological distinctive of Methodism. Join us as we gather together to answer questions about methodism during this critical moment in Methodist history!
URL:https://wellspringms.church/event/what-is-methodism/2024-06-06/
LOCATION:MS\, 39110\, United States
CATEGORIES:Discipleship
ATTACH;FMTTYPE=image/png:https://wellspringms.church/wp-content/uploads/2024/04/Screenshot-2024-04-25-at-10.45.12 AM.png
ORGANIZER;CN="Matt Ayars":MAILTO:info@wellspringms.church
END:VEVENT
BEGIN:VEVENT
DTSTART;TZID=America/Chicago:20240606T031500
DTEND;TZID=America/Chicago:20240606T093000
DTSTAMP:20260423T005814
CREATED:20240523T100453Z
LAST-MODIFIED:20240523T100531Z
UID:10002315-1717643700-1717666200@wellspringms.church
SUMMARY:Youth Service Day
DESCRIPTION:Join us as we go serve at Mustard Seed. \nWe will meet at Starbuck’s in Reni to ride to Mustard Seed together.
URL:https://wellspringms.church/event/youth-service-day/
LOCATION:MS
CATEGORIES:Youth Group
ORGANIZER;CN="Ellen Healy":MAILTO:ellen.healy@wellspringms.church
END:VEVENT
BEGIN:VEVENT
DTSTART;TZID=America/Chicago:20240605T130000
DTEND;TZID=America/Chicago:20240605T150000
DTSTAMP:20260423T005814
CREATED:20240523T094046Z
LAST-MODIFIED:20240523T095627Z
UID:10002303-1717592400-1717599600@wellspringms.church
SUMMARY:Youth Bible Study
DESCRIPTION:Dive Deeper in our faith as we study God’s Word! \nBring a friend and your bible. \nWe will meet at different locations each week\, so be sure to check our youth insta page for details. \n 
URL:https://wellspringms.church/event/youth-bible-study/2024-06-05/
LOCATION:MS
CATEGORIES:Youth Group
END:VEVENT
BEGIN:VEVENT
DTSTART;TZID=America/Chicago:20240604T153000
DTEND;TZID=America/Chicago:20240604T163000
DTSTAMP:20260423T005814
CREATED:20240529T003216Z
LAST-MODIFIED:20240628T210925Z
UID:10004170-1717515000-1717518600@wellspringms.church
SUMMARY:Ladies Bible Study
DESCRIPTION:
URL:https://wellspringms.church/event/ladies-bible-study/2024-06-04/
LOCATION:MS
CATEGORIES:Discipleship
ATTACH;FMTTYPE=image/jpeg:https://wellspringms.church/wp-content/uploads/2024/04/aaron-burden-TNlHf4m4gpI-unsplash-scaled.jpg
END:VEVENT
BEGIN:VEVENT
DTSTART;TZID=America/Chicago:20240530T130000
DTEND;TZID=America/Chicago:20240530T140000
DTSTAMP:20260423T005814
CREATED:20240501T224202Z
LAST-MODIFIED:20240626T224541Z
UID:10002019-1717074000-1717077600@wellspringms.church
SUMMARY:What Is Methodism?
DESCRIPTION:What does it mean to be a Methodist? What does “Wesleyan-Arminian” mean? What is “entire sanctification”? How are Methodists different from other denominations (e.g.\, Presbyterians\, Baptists\, Anglicans\, etc.)? As we prepare for denominational affiliation we will be exploring the historical and theological distinctive of Methodism. Join us as we gather together to answer questions about methodism during this critical moment in Methodist history!
URL:https://wellspringms.church/event/what-is-methodism/2024-05-30/
LOCATION:MS\, 39110\, United States
CATEGORIES:Discipleship
ATTACH;FMTTYPE=image/png:https://wellspringms.church/wp-content/uploads/2024/04/Screenshot-2024-04-25-at-10.45.12 AM.png
ORGANIZER;CN="Matt Ayars":MAILTO:info@wellspringms.church
END:VEVENT
BEGIN:VEVENT
DTSTART;TZID=America/Chicago:20240528T153000
DTEND;TZID=America/Chicago:20240528T163000
DTSTAMP:20260423T005814
CREATED:20240529T003216Z
LAST-MODIFIED:20240628T210925Z
UID:10004169-1716910200-1716913800@wellspringms.church
SUMMARY:Ladies Bible Study
DESCRIPTION:
URL:https://wellspringms.church/event/ladies-bible-study/2024-05-28/3/
LOCATION:MS
CATEGORIES:Discipleship
ATTACH;FMTTYPE=image/jpeg:https://wellspringms.church/wp-content/uploads/2024/04/aaron-burden-TNlHf4m4gpI-unsplash-scaled.jpg
END:VEVENT
BEGIN:VEVENT
DTSTART;TZID=America/Chicago:20240528T150000
DTEND;TZID=America/Chicago:20240528T160000
DTSTAMP:20260423T005814
CREATED:20240529T003216Z
LAST-MODIFIED:20240628T210925Z
UID:10004168-1716908400-1716912000@wellspringms.church
SUMMARY:Ladies Bible Study
DESCRIPTION:
URL:https://wellspringms.church/event/ladies-bible-study/2024-05-28/2/
LOCATION:MS
CATEGORIES:Discipleship
ATTACH;FMTTYPE=image/jpeg:https://wellspringms.church/wp-content/uploads/2024/04/aaron-burden-TNlHf4m4gpI-unsplash-scaled.jpg
END:VEVENT
BEGIN:VEVENT
DTSTART;TZID=America/Chicago:20240523T130000
DTEND;TZID=America/Chicago:20240523T140000
DTSTAMP:20260423T005814
CREATED:20240501T224202Z
LAST-MODIFIED:20240626T224541Z
UID:10002018-1716469200-1716472800@wellspringms.church
SUMMARY:What Is Methodism?
DESCRIPTION:What does it mean to be a Methodist? What does “Wesleyan-Arminian” mean? What is “entire sanctification”? How are Methodists different from other denominations (e.g.\, Presbyterians\, Baptists\, Anglicans\, etc.)? As we prepare for denominational affiliation we will be exploring the historical and theological distinctive of Methodism. Join us as we gather together to answer questions about methodism during this critical moment in Methodist history!
URL:https://wellspringms.church/event/what-is-methodism/2024-05-23/
LOCATION:MS\, 39110\, United States
CATEGORIES:Discipleship
ATTACH;FMTTYPE=image/png:https://wellspringms.church/wp-content/uploads/2024/04/Screenshot-2024-04-25-at-10.45.12 AM.png
ORGANIZER;CN="Matt Ayars":MAILTO:info@wellspringms.church
END:VEVENT
BEGIN:VEVENT
DTSTART;TZID=America/Chicago:20240523T040000
DTEND;TZID=America/Chicago:20240523T120000
DTSTAMP:20260423T005814
CREATED:20240523T102354Z
LAST-MODIFIED:20240523T102354Z
UID:10002328-1716436800-1716465600@wellspringms.church
SUMMARY:Youth Outing
DESCRIPTION:Grab a friend & join us for a trip to the mighty Okatoma. \nWatch our Insta Youth page for more information. \nWe do have rain plans if Mother Nature decides to rain. \n 
URL:https://wellspringms.church/event/youth-outing/
LOCATION:MS
CATEGORIES:Youth Group
ORGANIZER;CN="Ellen Healy":MAILTO:ellen.healy@wellspringms.church
END:VEVENT
BEGIN:VEVENT
DTSTART;TZID=America/Chicago:20240520T180000
DTEND;TZID=America/Chicago:20240520T193000
DTSTAMP:20260423T005814
CREATED:20240513T230034Z
LAST-MODIFIED:20240719T151716Z
UID:10007456-1716228000-1716233400@wellspringms.church
SUMMARY:Outreach/Evangelism meeting
DESCRIPTION:
URL:https://wellspringms.church/event/outreach-evangelism-meeting/2024-05-20/
LOCATION:Healy Home\, 11 Brookside Place\, Madison\, MS\, 39110\, United States
CATEGORIES:missions
END:VEVENT
BEGIN:VEVENT
DTSTART;TZID=America/Chicago:20240518T110000
DTEND;TZID=America/Chicago:20240518T130000
DTSTAMP:20260423T005814
CREATED:20240428T190717Z
LAST-MODIFIED:20240428T191618Z
UID:10002015-1716030000-1716037200@wellspringms.church
SUMMARY:Crawfish Boil
DESCRIPTION:
URL:https://wellspringms.church/event/crawfish-boil/
LOCATION:Lost Rabbit\, 101 Louisiana St\, Madison\, MS\, 39110\, United States
CATEGORIES:Fellowship Event
ATTACH;FMTTYPE=image/jpeg:https://wellspringms.church/wp-content/uploads/2024/04/cboil.jpg
ORGANIZER;CN="Stacey Ayars":MAILTO:stacey.ayars@wellspringms.church
END:VEVENT
BEGIN:VEVENT
DTSTART;TZID=America/Chicago:20240516T130000
DTEND;TZID=America/Chicago:20240516T140000
DTSTAMP:20260423T005814
CREATED:20240501T224202Z
LAST-MODIFIED:20240626T224541Z
UID:10002017-1715864400-1715868000@wellspringms.church
SUMMARY:What Is Methodism?
DESCRIPTION:What does it mean to be a Methodist? What does “Wesleyan-Arminian” mean? What is “entire sanctification”? How are Methodists different from other denominations (e.g.\, Presbyterians\, Baptists\, Anglicans\, etc.)? As we prepare for denominational affiliation we will be exploring the historical and theological distinctive of Methodism. Join us as we gather together to answer questions about methodism during this critical moment in Methodist history!
URL:https://wellspringms.church/event/what-is-methodism/2024-05-16/
LOCATION:MS\, 39110\, United States
CATEGORIES:Discipleship
ATTACH;FMTTYPE=image/png:https://wellspringms.church/wp-content/uploads/2024/04/Screenshot-2024-04-25-at-10.45.12 AM.png
ORGANIZER;CN="Matt Ayars":MAILTO:info@wellspringms.church
END:VEVENT
BEGIN:VEVENT
DTSTART;TZID=America/Chicago:20240515T120000
DTEND;TZID=America/Chicago:20240515T130000
DTSTAMP:20260423T005814
CREATED:20240410T211400Z
LAST-MODIFIED:20240903T221313Z
UID:10007308-1715774400-1715778000@wellspringms.church
SUMMARY:Silver Linings
DESCRIPTION:Silver Linings is an older adult small group that meets the third Wednesday of each month at noon at Chicken Salad Chick in Madison.
URL:https://wellspringms.church/event/silver-linings/2024-05-15/
LOCATION:Chicken Salad Chick\, 1917 Main St\, Madison\, MS\, 39110\, United States
CATEGORIES:Small Group
ATTACH;FMTTYPE=image/jpeg:https://wellspringms.church/wp-content/uploads/2024/04/Silver-Linings-group-shot.jpg
END:VEVENT
BEGIN:VEVENT
DTSTART;TZID=America/Chicago:20240509T130000
DTEND;TZID=America/Chicago:20240509T140000
DTSTAMP:20260423T005814
CREATED:20240501T224202Z
LAST-MODIFIED:20240626T224541Z
UID:10002016-1715259600-1715263200@wellspringms.church
SUMMARY:What Is Methodism?
DESCRIPTION:What does it mean to be a Methodist? What does “Wesleyan-Arminian” mean? What is “entire sanctification”? How are Methodists different from other denominations (e.g.\, Presbyterians\, Baptists\, Anglicans\, etc.)? As we prepare for denominational affiliation we will be exploring the historical and theological distinctive of Methodism. Join us as we gather together to answer questions about methodism during this critical moment in Methodist history!
URL:https://wellspringms.church/event/what-is-methodism/2024-05-09/
LOCATION:MS\, 39110\, United States
CATEGORIES:Discipleship
ATTACH;FMTTYPE=image/png:https://wellspringms.church/wp-content/uploads/2024/04/Screenshot-2024-04-25-at-10.45.12 AM.png
ORGANIZER;CN="Matt Ayars":MAILTO:info@wellspringms.church
END:VEVENT
BEGIN:VEVENT
DTSTART;TZID=America/Chicago:20240508T130000
DTEND;TZID=America/Chicago:20240508T150000
DTSTAMP:20260423T005814
CREATED:20240425T215701Z
LAST-MODIFIED:20240425T215821Z
UID:10001954-1715173200-1715180400@wellspringms.church
SUMMARY:Wellspring Men's Gathering
DESCRIPTION:Bibles and BBQ. (BYOBible)
URL:https://wellspringms.church/event/wellspring-mens-gathering/
LOCATION:Healy Home\, 11 Brookside Place\, Madison\, MS\, 39110\, United States
CATEGORIES:Small Group
ATTACH;FMTTYPE=image/jpeg:https://wellspringms.church/wp-content/uploads/2024/04/vincent-keiman-ul_m5dHThaM-unsplash-scaled.jpg
END:VEVENT
BEGIN:VEVENT
DTSTART;TZID=America/Chicago:20240508T130000
DTEND;TZID=America/Chicago:20240508T143000
DTSTAMP:20260423T005814
CREATED:20240410T224223Z
LAST-MODIFIED:20240501T060401Z
UID:10001437-1715173200-1715178600@wellspringms.church
SUMMARY:Youth Group
DESCRIPTION:Facilitator: Carrie Bruce
URL:https://wellspringms.church/event/youth-group-4/
LOCATION:MS
CATEGORIES:Youth Group
ORGANIZER;CN="Matt Ayars":MAILTO:info@wellspringms.church
END:VEVENT
BEGIN:VEVENT
DTSTART;TZID=America/Chicago:20240504T053000
DTEND;TZID=America/Chicago:20240504T060000
DTSTAMP:20260423T005814
CREATED:20240425T225714Z
LAST-MODIFIED:20240425T225947Z
UID:10001955-1714800600-1714802400@wellspringms.church
SUMMARY:New Site - Prayer Walk
DESCRIPTION:Join us at our new church home for a 30 minute prayer walk (or sit!). Bring a lawn chair if desired\, and join us in praying for the physical and spiritual territory that God has provided at
URL:https://wellspringms.church/event/new-site-prayer-walk/
LOCATION:MS
CATEGORIES:Prayer
ATTACH;FMTTYPE=image/jpeg:https://wellspringms.church/wp-content/uploads/2024/04/IMG_3751-scaled-e1714067971759.jpeg
ORGANIZER;CN="Stacey Ayars":MAILTO:stacey.ayars@wellspringms.church
END:VEVENT
BEGIN:VEVENT
DTSTART;TZID=America/Chicago:20240502T120000
DTEND;TZID=America/Chicago:20240502T140000
DTSTAMP:20260423T005814
CREATED:20240410T205459Z
LAST-MODIFIED:20240501T224329Z
UID:10001176-1714651200-1714658400@wellspringms.church
SUMMARY:Dinner & Weekly Bible Study
DESCRIPTION:Weekly Bible Study with Pastor Matt. Come at 5PM to grab dinner\, study starts at 6PM.
URL:https://wellspringms.church/event/weekly-bible-study/2024-05-02/
LOCATION:Mama Hamil’s\, 480 Magnolia St\, Madison\, MS\, 39110\, United States
CATEGORIES:Discipleship
ATTACH;FMTTYPE=image/jpeg:https://wellspringms.church/wp-content/uploads/2024/03/sixteen-miles-out-L-mNqn89I2s-unsplash-2-scaled.jpg
ORGANIZER;CN="Matt Ayars":MAILTO:info@wellspringms.church
END:VEVENT
BEGIN:VEVENT
DTSTART;TZID=America/Chicago:20240501T130000
DTEND;TZID=America/Chicago:20240501T143000
DTSTAMP:20260423T005814
CREATED:20240410T224028Z
LAST-MODIFIED:20240501T060651Z
UID:10001436-1714568400-1714573800@wellspringms.church
SUMMARY:Youth Group
DESCRIPTION:Facilitator: Ellen Healy
URL:https://wellspringms.church/event/youth-group-3/
LOCATION:MS
CATEGORIES:Youth Group
ORGANIZER;CN="Matt Ayars":MAILTO:info@wellspringms.church
END:VEVENT
BEGIN:VEVENT
DTSTART;TZID=America/Chicago:20240428T120000
DTEND;TZID=America/Chicago:20240428T130500
DTSTAMP:20260423T005814
CREATED:20240410T205856Z
LAST-MODIFIED:20240410T210651Z
UID:10001113-1714305600-1714309500@wellspringms.church
SUMMARY:Covenant Sunday
DESCRIPTION:This Sunday we will acknowledge all our new and charter members.
URL:https://wellspringms.church/event/covenant-sunday/
LOCATION:MS\, 39110\, United States
CATEGORIES:Worship Service
ATTACH;FMTTYPE=image/jpeg:https://wellspringms.church/wp-content/uploads/2024/04/david-weber-f_nJ26i9Wyo-unsplash-scaled.jpg
END:VEVENT
BEGIN:VEVENT
DTSTART;TZID=America/Chicago:20240425T120000
DTEND;TZID=America/Chicago:20240425T140000
DTSTAMP:20260423T005814
CREATED:20240410T205459Z
LAST-MODIFIED:20240501T224329Z
UID:10001175-1714046400-1714053600@wellspringms.church
SUMMARY:Dinner & Weekly Bible Study
DESCRIPTION:Weekly Bible Study with Pastor Matt. Come at 5PM to grab dinner\, study starts at 6PM.
URL:https://wellspringms.church/event/weekly-bible-study/2024-04-25/
LOCATION:Mama Hamil’s\, 480 Magnolia St\, Madison\, MS\, 39110\, United States
CATEGORIES:Discipleship
ATTACH;FMTTYPE=image/jpeg:https://wellspringms.church/wp-content/uploads/2024/03/sixteen-miles-out-L-mNqn89I2s-unsplash-2-scaled.jpg
ORGANIZER;CN="Matt Ayars":MAILTO:info@wellspringms.church
END:VEVENT
BEGIN:VEVENT
DTSTART;TZID=America/Chicago:20240424T130000
DTEND;TZID=America/Chicago:20240424T140000
DTSTAMP:20260423T005814
CREATED:20240410T223907Z
LAST-MODIFIED:20240410T223907Z
UID:10001435-1713963600-1713967200@wellspringms.church
SUMMARY:Youth Group
DESCRIPTION:Facilitator: Bam
URL:https://wellspringms.church/event/youth-group-2/
LOCATION:Healy Home\, 11 Brookside Place\, Madison\, MS\, 39110\, United States
CATEGORIES:Youth Group
ORGANIZER;CN="Matt Ayars":MAILTO:info@wellspringms.church
END:VEVENT
BEGIN:VEVENT
DTSTART;TZID=America/Chicago:20240418T120000
DTEND;TZID=America/Chicago:20240418T140000
DTSTAMP:20260423T005814
CREATED:20240410T205459Z
LAST-MODIFIED:20240501T224329Z
UID:10001174-1713441600-1713448800@wellspringms.church
SUMMARY:Dinner & Weekly Bible Study
DESCRIPTION:Weekly Bible Study with Pastor Matt. Come at 5PM to grab dinner\, study starts at 6PM.
URL:https://wellspringms.church/event/weekly-bible-study/2024-04-18/
LOCATION:Mama Hamil’s\, 480 Magnolia St\, Madison\, MS\, 39110\, United States
CATEGORIES:Discipleship
ATTACH;FMTTYPE=image/jpeg:https://wellspringms.church/wp-content/uploads/2024/03/sixteen-miles-out-L-mNqn89I2s-unsplash-2-scaled.jpg
ORGANIZER;CN="Matt Ayars":MAILTO:info@wellspringms.church
END:VEVENT
BEGIN:VEVENT
DTSTART;TZID=America/Chicago:20240411T120000
DTEND;TZID=America/Chicago:20240411T140000
DTSTAMP:20260423T005814
CREATED:20240410T205459Z
LAST-MODIFIED:20240501T224329Z
UID:10001173-1712836800-1712844000@wellspringms.church
SUMMARY:Dinner & Weekly Bible Study
DESCRIPTION:Weekly Bible Study with Pastor Matt. Come at 5PM to grab dinner\, study starts at 6PM.
URL:https://wellspringms.church/event/weekly-bible-study/2024-04-11/
LOCATION:Mama Hamil’s\, 480 Magnolia St\, Madison\, MS\, 39110\, United States
CATEGORIES:Discipleship
ATTACH;FMTTYPE=image/jpeg:https://wellspringms.church/wp-content/uploads/2024/03/sixteen-miles-out-L-mNqn89I2s-unsplash-2-scaled.jpg
ORGANIZER;CN="Matt Ayars":MAILTO:info@wellspringms.church
END:VEVENT
END:VCALENDAR