BEGIN:VCALENDAR
VERSION:2.0
PRODID:-//Wellspring Church - ECPv6.15.20//NONSGML v1.0//EN
CALSCALE:GREGORIAN
METHOD:PUBLISH
X-ORIGINAL-URL:https://wellspringms.church
X-WR-CALDESC:Events for Wellspring Church
REFRESH-INTERVAL;VALUE=DURATION:PT1H
X-Robots-Tag:noindex
X-PUBLISHED-TTL:PT1H
BEGIN:VTIMEZONE
TZID:America/Chicago
BEGIN:DAYLIGHT
TZOFFSETFROM:-0600
TZOFFSETTO:-0500
TZNAME:CDT
DTSTART:20230312T080000
END:DAYLIGHT
BEGIN:STANDARD
TZOFFSETFROM:-0500
TZOFFSETTO:-0600
TZNAME:CST
DTSTART:20231105T070000
END:STANDARD
BEGIN:DAYLIGHT
TZOFFSETFROM:-0600
TZOFFSETTO:-0500
TZNAME:CDT
DTSTART:20240310T080000
END:DAYLIGHT
BEGIN:STANDARD
TZOFFSETFROM:-0500
TZOFFSETTO:-0600
TZNAME:CST
DTSTART:20241103T070000
END:STANDARD
BEGIN:DAYLIGHT
TZOFFSETFROM:-0600
TZOFFSETTO:-0500
TZNAME:CDT
DTSTART:20250309T080000
END:DAYLIGHT
BEGIN:STANDARD
TZOFFSETFROM:-0500
TZOFFSETTO:-0600
TZNAME:CST
DTSTART:20251102T070000
END:STANDARD
END:VTIMEZONE
BEGIN:VEVENT
DTSTART;TZID=America/Chicago:20240604T153000
DTEND;TZID=America/Chicago:20240604T163000
DTSTAMP:20260422T094221
CREATED:20240529T003216Z
LAST-MODIFIED:20240628T210925Z
UID:10004170-1717515000-1717518600@wellspringms.church
SUMMARY:Ladies Bible Study
DESCRIPTION:
URL:https://wellspringms.church/event/ladies-bible-study/2024-06-04/
LOCATION:MS
CATEGORIES:Discipleship
ATTACH;FMTTYPE=image/jpeg:https://wellspringms.church/wp-content/uploads/2024/04/aaron-burden-TNlHf4m4gpI-unsplash-scaled.jpg
END:VEVENT
BEGIN:VEVENT
DTSTART;TZID=America/Chicago:20240605T130000
DTEND;TZID=America/Chicago:20240605T150000
DTSTAMP:20260422T094221
CREATED:20240523T094046Z
LAST-MODIFIED:20240523T095627Z
UID:10002303-1717592400-1717599600@wellspringms.church
SUMMARY:Youth Bible Study
DESCRIPTION:Dive Deeper in our faith as we study God’s Word! \nBring a friend and your bible. \nWe will meet at different locations each week\, so be sure to check our youth insta page for details. \n 
URL:https://wellspringms.church/event/youth-bible-study/2024-06-05/
LOCATION:MS
CATEGORIES:Youth Group
END:VEVENT
BEGIN:VEVENT
DTSTART;TZID=America/Chicago:20240606T031500
DTEND;TZID=America/Chicago:20240606T093000
DTSTAMP:20260422T094221
CREATED:20240523T100453Z
LAST-MODIFIED:20240523T100531Z
UID:10002315-1717643700-1717666200@wellspringms.church
SUMMARY:Youth Service Day
DESCRIPTION:Join us as we go serve at Mustard Seed. \nWe will meet at Starbuck’s in Reni to ride to Mustard Seed together.
URL:https://wellspringms.church/event/youth-service-day/
LOCATION:MS
CATEGORIES:Youth Group
ORGANIZER;CN="Ellen Healy":MAILTO:ellen.healy@wellspringms.church
END:VEVENT
BEGIN:VEVENT
DTSTART;TZID=America/Chicago:20240606T130000
DTEND;TZID=America/Chicago:20240606T140000
DTSTAMP:20260422T094221
CREATED:20240501T224202Z
LAST-MODIFIED:20240626T224541Z
UID:10002020-1717678800-1717682400@wellspringms.church
SUMMARY:What Is Methodism?
DESCRIPTION:What does it mean to be a Methodist? What does “Wesleyan-Arminian” mean? What is “entire sanctification”? How are Methodists different from other denominations (e.g.\, Presbyterians\, Baptists\, Anglicans\, etc.)? As we prepare for denominational affiliation we will be exploring the historical and theological distinctive of Methodism. Join us as we gather together to answer questions about methodism during this critical moment in Methodist history!
URL:https://wellspringms.church/event/what-is-methodism/2024-06-06/
LOCATION:MS\, 39110\, United States
CATEGORIES:Discipleship
ATTACH;FMTTYPE=image/png:https://wellspringms.church/wp-content/uploads/2024/04/Screenshot-2024-04-25-at-10.45.12 AM.png
ORGANIZER;CN="Matt Ayars":MAILTO:info@wellspringms.church
END:VEVENT
BEGIN:VEVENT
DTSTART;TZID=America/Chicago:20240609T133000
DTEND;TZID=America/Chicago:20240609T153000
DTSTAMP:20260422T094221
CREATED:20240523T101216Z
LAST-MODIFIED:20240523T101605Z
UID:10002317-1717939800-1717947000@wellspringms.church
SUMMARY:Youth Restaurant Takeover
DESCRIPTION:Join us as we go out to eat after worship on Sunday evenings. \nSupper location will be announced the Friday before on Socials.
URL:https://wellspringms.church/event/youth-restaurant-takeover/
LOCATION:MS
CATEGORIES:Youth Group
ORGANIZER;CN="Ellen Healy":MAILTO:ellen.healy@wellspringms.church
END:VEVENT
BEGIN:VEVENT
DTSTART;TZID=America/Chicago:20240611T153000
DTEND;TZID=America/Chicago:20240611T163000
DTSTAMP:20260422T094221
CREATED:20240529T003216Z
LAST-MODIFIED:20240628T210925Z
UID:10004171-1718119800-1718123400@wellspringms.church
SUMMARY:Ladies Bible Study
DESCRIPTION:
URL:https://wellspringms.church/event/ladies-bible-study/2024-06-11/
LOCATION:MS
CATEGORIES:Discipleship
ATTACH;FMTTYPE=image/jpeg:https://wellspringms.church/wp-content/uploads/2024/04/aaron-burden-TNlHf4m4gpI-unsplash-scaled.jpg
END:VEVENT
BEGIN:VEVENT
DTSTART;TZID=America/Chicago:20240612T130000
DTEND;TZID=America/Chicago:20240612T150000
DTSTAMP:20260422T094221
CREATED:20240523T094046Z
LAST-MODIFIED:20240523T095627Z
UID:10002305-1718197200-1718204400@wellspringms.church
SUMMARY:Youth Bible Study
DESCRIPTION:Dive Deeper in our faith as we study God’s Word! \nBring a friend and your bible. \nWe will meet at different locations each week\, so be sure to check our youth insta page for details. \n 
URL:https://wellspringms.church/event/youth-bible-study/2024-06-12/
LOCATION:MS
CATEGORIES:Youth Group
END:VEVENT
BEGIN:VEVENT
DTSTART;TZID=America/Chicago:20240613T130000
DTEND;TZID=America/Chicago:20240613T140000
DTSTAMP:20260422T094221
CREATED:20240501T224202Z
LAST-MODIFIED:20240626T224541Z
UID:10002021-1718283600-1718287200@wellspringms.church
SUMMARY:What Is Methodism?
DESCRIPTION:What does it mean to be a Methodist? What does “Wesleyan-Arminian” mean? What is “entire sanctification”? How are Methodists different from other denominations (e.g.\, Presbyterians\, Baptists\, Anglicans\, etc.)? As we prepare for denominational affiliation we will be exploring the historical and theological distinctive of Methodism. Join us as we gather together to answer questions about methodism during this critical moment in Methodist history!
URL:https://wellspringms.church/event/what-is-methodism/2024-06-13/
LOCATION:MS\, 39110\, United States
CATEGORIES:Discipleship
ATTACH;FMTTYPE=image/png:https://wellspringms.church/wp-content/uploads/2024/04/Screenshot-2024-04-25-at-10.45.12 AM.png
ORGANIZER;CN="Matt Ayars":MAILTO:info@wellspringms.church
END:VEVENT
BEGIN:VEVENT
DTSTART;TZID=America/Chicago:20240617T180000
DTEND;TZID=America/Chicago:20240617T193000
DTSTAMP:20260422T094221
CREATED:20240513T230034Z
LAST-MODIFIED:20240719T151716Z
UID:10007457-1718647200-1718652600@wellspringms.church
SUMMARY:Outreach/Evangelism meeting
DESCRIPTION:
URL:https://wellspringms.church/event/outreach-evangelism-meeting/2024-06-17/
LOCATION:Healy Home\, 11 Brookside Place\, Madison\, MS\, 39110\, United States
CATEGORIES:missions
END:VEVENT
BEGIN:VEVENT
DTSTART;TZID=America/Chicago:20240618T153000
DTEND;TZID=America/Chicago:20240618T163000
DTSTAMP:20260422T094221
CREATED:20240529T003216Z
LAST-MODIFIED:20240628T210925Z
UID:10004172-1718724600-1718728200@wellspringms.church
SUMMARY:Ladies Bible Study
DESCRIPTION:
URL:https://wellspringms.church/event/ladies-bible-study/2024-06-18/
LOCATION:MS
CATEGORIES:Discipleship
ATTACH;FMTTYPE=image/jpeg:https://wellspringms.church/wp-content/uploads/2024/04/aaron-burden-TNlHf4m4gpI-unsplash-scaled.jpg
END:VEVENT
BEGIN:VEVENT
DTSTART;TZID=America/Chicago:20240619T120000
DTEND;TZID=America/Chicago:20240619T130000
DTSTAMP:20260422T094221
CREATED:20240410T211400Z
LAST-MODIFIED:20240903T221313Z
UID:10007309-1718798400-1718802000@wellspringms.church
SUMMARY:Silver Linings
DESCRIPTION:Silver Linings is an older adult small group that meets the third Wednesday of each month at noon at Chicken Salad Chick in Madison.
URL:https://wellspringms.church/event/silver-linings/2024-06-19/
LOCATION:Chicken Salad Chick\, 1917 Main St\, Madison\, MS\, 39110\, United States
CATEGORIES:Small Group
ATTACH;FMTTYPE=image/jpeg:https://wellspringms.church/wp-content/uploads/2024/04/Silver-Linings-group-shot.jpg
END:VEVENT
BEGIN:VEVENT
DTSTART;TZID=America/Chicago:20240619T130000
DTEND;TZID=America/Chicago:20240619T150000
DTSTAMP:20260422T094221
CREATED:20240523T094046Z
LAST-MODIFIED:20240523T095627Z
UID:10002306-1718802000-1718809200@wellspringms.church
SUMMARY:Youth Bible Study
DESCRIPTION:Dive Deeper in our faith as we study God’s Word! \nBring a friend and your bible. \nWe will meet at different locations each week\, so be sure to check our youth insta page for details. \n 
URL:https://wellspringms.church/event/youth-bible-study/2024-06-19/
LOCATION:MS
CATEGORIES:Youth Group
END:VEVENT
BEGIN:VEVENT
DTSTART;TZID=America/Chicago:20240620T130000
DTEND;TZID=America/Chicago:20240620T140000
DTSTAMP:20260422T094221
CREATED:20240501T224202Z
LAST-MODIFIED:20240626T224541Z
UID:10002022-1718888400-1718892000@wellspringms.church
SUMMARY:What Is Methodism?
DESCRIPTION:What does it mean to be a Methodist? What does “Wesleyan-Arminian” mean? What is “entire sanctification”? How are Methodists different from other denominations (e.g.\, Presbyterians\, Baptists\, Anglicans\, etc.)? As we prepare for denominational affiliation we will be exploring the historical and theological distinctive of Methodism. Join us as we gather together to answer questions about methodism during this critical moment in Methodist history!
URL:https://wellspringms.church/event/what-is-methodism/2024-06-20/
LOCATION:MS\, 39110\, United States
CATEGORIES:Discipleship
ATTACH;FMTTYPE=image/png:https://wellspringms.church/wp-content/uploads/2024/04/Screenshot-2024-04-25-at-10.45.12 AM.png
ORGANIZER;CN="Matt Ayars":MAILTO:info@wellspringms.church
END:VEVENT
BEGIN:VEVENT
DTSTART;TZID=America/Chicago:20240621T030000
DTEND;TZID=America/Chicago:20240621T083000
DTSTAMP:20260422T094221
CREATED:20240523T100822Z
LAST-MODIFIED:20240523T100822Z
UID:10002316-1718938800-1718958600@wellspringms.church
SUMMARY:Youth Service Day
DESCRIPTION:Join us as we go serve at Shower Power in Jackson \nWe will meet at Ellen’s house (11 Brookside Place Madison) \nand ride to Shower Power together.
URL:https://wellspringms.church/event/youth-service-day-2/
LOCATION:MS
CATEGORIES:Youth Group
ORGANIZER;CN="Ellen Healy":MAILTO:ellen.healy@wellspringms.church
END:VEVENT
BEGIN:VEVENT
DTSTART;TZID=America/Chicago:20240626T130000
DTEND;TZID=America/Chicago:20240626T150000
DTSTAMP:20260422T094221
CREATED:20240523T094046Z
LAST-MODIFIED:20240523T095627Z
UID:10002307-1719406800-1719414000@wellspringms.church
SUMMARY:Youth Bible Study
DESCRIPTION:Dive Deeper in our faith as we study God’s Word! \nBring a friend and your bible. \nWe will meet at different locations each week\, so be sure to check our youth insta page for details. \n 
URL:https://wellspringms.church/event/youth-bible-study/2024-06-26/
LOCATION:MS
CATEGORIES:Youth Group
END:VEVENT
BEGIN:VEVENT
DTSTART;TZID=America/Chicago:20240627T130000
DTEND;TZID=America/Chicago:20240627T140000
DTSTAMP:20260422T094221
CREATED:20240501T224202Z
LAST-MODIFIED:20240626T224541Z
UID:10002023-1719493200-1719496800@wellspringms.church
SUMMARY:What Is Methodism?
DESCRIPTION:What does it mean to be a Methodist? What does “Wesleyan-Arminian” mean? What is “entire sanctification”? How are Methodists different from other denominations (e.g.\, Presbyterians\, Baptists\, Anglicans\, etc.)? As we prepare for denominational affiliation we will be exploring the historical and theological distinctive of Methodism. Join us as we gather together to answer questions about methodism during this critical moment in Methodist history!
URL:https://wellspringms.church/event/what-is-methodism/2024-06-27/
LOCATION:MS\, 39110\, United States
CATEGORIES:Discipleship
ATTACH;FMTTYPE=image/png:https://wellspringms.church/wp-content/uploads/2024/04/Screenshot-2024-04-25-at-10.45.12 AM.png
ORGANIZER;CN="Matt Ayars":MAILTO:info@wellspringms.church
END:VEVENT
BEGIN:VEVENT
DTSTART;TZID=America/Chicago:20240630T183000
DTEND;TZID=America/Chicago:20240630T203000
DTSTAMP:20260422T094221
CREATED:20240630T212208Z
LAST-MODIFIED:20240719T153104Z
UID:10007037-1719772200-1719779400@wellspringms.church
SUMMARY:Youth Restaurant Takeover
DESCRIPTION:Youth invited to dinner after worship each week.
URL:https://wellspringms.church/event/youth-restaurant-takeover-2/2024-06-30/
LOCATION:MS
CATEGORIES:Youth Group
ATTACH;FMTTYPE=image/jpeg:https://wellspringms.church/wp-content/uploads/2024/06/alexis-brown-Xv7k95vOFA-unsplash-scaled.jpg
END:VEVENT
END:VCALENDAR