BEGIN:VCALENDAR
VERSION:2.0
PRODID:-//Wellspring Church - ECPv6.15.20//NONSGML v1.0//EN
CALSCALE:GREGORIAN
METHOD:PUBLISH
X-ORIGINAL-URL:https://wellspringms.church
X-WR-CALDESC:Events for Wellspring Church
REFRESH-INTERVAL;VALUE=DURATION:PT1H
X-Robots-Tag:noindex
X-PUBLISHED-TTL:PT1H
BEGIN:VTIMEZONE
TZID:America/Chicago
BEGIN:DAYLIGHT
TZOFFSETFROM:-0600
TZOFFSETTO:-0500
TZNAME:CDT
DTSTART:20230312T080000
END:DAYLIGHT
BEGIN:STANDARD
TZOFFSETFROM:-0500
TZOFFSETTO:-0600
TZNAME:CST
DTSTART:20231105T070000
END:STANDARD
BEGIN:DAYLIGHT
TZOFFSETFROM:-0600
TZOFFSETTO:-0500
TZNAME:CDT
DTSTART:20240310T080000
END:DAYLIGHT
BEGIN:STANDARD
TZOFFSETFROM:-0500
TZOFFSETTO:-0600
TZNAME:CST
DTSTART:20241103T070000
END:STANDARD
BEGIN:DAYLIGHT
TZOFFSETFROM:-0600
TZOFFSETTO:-0500
TZNAME:CDT
DTSTART:20250309T080000
END:DAYLIGHT
BEGIN:STANDARD
TZOFFSETFROM:-0500
TZOFFSETTO:-0600
TZNAME:CST
DTSTART:20251102T070000
END:STANDARD
END:VTIMEZONE
BEGIN:VEVENT
DTSTART;TZID=America/Chicago:20240903T103000
DTEND;TZID=America/Chicago:20240903T113000
DTSTAMP:20260421T060712
CREATED:20240630T204358Z
LAST-MODIFIED:20240920T132604Z
UID:10006262-1725359400-1725363000@wellspringms.church
SUMMARY:Ladies' Bible Study
DESCRIPTION:Ladies’ Bible Study
URL:https://wellspringms.church/event/ladies-bible-study-2/2024-09-03/
LOCATION:Lost Rabbit\, 101 Louisiana St\, Madison\, MS\, 39110\, United States
CATEGORIES:Discipleship
ATTACH;FMTTYPE=image/jpeg:https://wellspringms.church/wp-content/uploads/2024/04/cropped-herrmann-stamm-19iL-6uC5C4-unsplash-scaled-1.jpg
END:VEVENT
BEGIN:VEVENT
DTSTART;TZID=America/Chicago:20240903T150000
DTEND;TZID=America/Chicago:20240903T160000
DTSTAMP:20260421T060712
CREATED:20240630T204545Z
LAST-MODIFIED:20240920T132510Z
UID:10006522-1725375600-1725379200@wellspringms.church
SUMMARY:Ladies' Bible Study
DESCRIPTION:Ladies’ Bible Study
URL:https://wellspringms.church/event/ladies-bible-study-3/2024-09-03/
LOCATION:Lost Rabbit\, 101 Louisiana St\, Madison\, MS\, 39110\, United States
CATEGORIES:Discipleship
ATTACH;FMTTYPE=image/jpeg:https://wellspringms.church/wp-content/uploads/2024/04/cropped-herrmann-stamm-19iL-6uC5C4-unsplash-scaled-1.jpg
END:VEVENT
BEGIN:VEVENT
DTSTART;TZID=America/Chicago:20240904T080000
DTEND;TZID=America/Chicago:20240904T170000
DTSTAMP:20260421T060712
CREATED:20240830T033115Z
LAST-MODIFIED:20240830T033115Z
UID:10007633-1725436800-1725469200@wellspringms.church
SUMMARY:Ladies Night Out - Dinner & Ballet Magnificat
DESCRIPTION:Ladies will meet for dinner and then attend a Ballet Magnificat performance at Vineyard Church in Flowood.
URL:https://wellspringms.church/event/ladies-night-out-dinner-ballet-magnificat/
LOCATION:MS
CATEGORIES:Fellowship Event
END:VEVENT
BEGIN:VEVENT
DTSTART;TZID=America/Chicago:20240904T180000
DTEND;TZID=America/Chicago:20240904T193000
DTSTAMP:20260421T060712
CREATED:20240721T031417Z
LAST-MODIFIED:20240815T031116Z
UID:10007549-1725472800-1725478200@wellspringms.church
SUMMARY:Youth Bible Study
DESCRIPTION:Dive Deeper in our faith as we study God’s Word! \nBring a friend and your bible. \nWe will meet at different locations each week\, so be sure to check our youth insta page for details
URL:https://wellspringms.church/event/youth-bible-study-2/2024-09-04/
LOCATION:MS
CATEGORIES:Youth Group
END:VEVENT
BEGIN:VEVENT
DTSTART;TZID=America/Chicago:20240908T080000
DTEND;TZID=America/Chicago:20240908T180000
DTSTAMP:20260421T060712
CREATED:20240816T142516Z
LAST-MODIFIED:20240816T143246Z
UID:10007631-1725782400-1725818400@wellspringms.church
SUMMARY:Grandparents Day Reception
DESCRIPTION:There will be a reception honoring all grandparents immediately following our worship service.
URL:https://wellspringms.church/event/grandparents-day-reception/
LOCATION:MS
CATEGORIES:Children's Ministry,Fellowship Event
END:VEVENT
BEGIN:VEVENT
DTSTART;TZID=America/Chicago:20240910T103000
DTEND;TZID=America/Chicago:20240910T113000
DTSTAMP:20260421T060712
CREATED:20240630T204358Z
LAST-MODIFIED:20240920T132604Z
UID:10006263-1725964200-1725967800@wellspringms.church
SUMMARY:Ladies' Bible Study
DESCRIPTION:Ladies’ Bible Study
URL:https://wellspringms.church/event/ladies-bible-study-2/2024-09-10/
LOCATION:Lost Rabbit\, 101 Louisiana St\, Madison\, MS\, 39110\, United States
CATEGORIES:Discipleship
ATTACH;FMTTYPE=image/jpeg:https://wellspringms.church/wp-content/uploads/2024/04/cropped-herrmann-stamm-19iL-6uC5C4-unsplash-scaled-1.jpg
END:VEVENT
BEGIN:VEVENT
DTSTART;TZID=America/Chicago:20240910T150000
DTEND;TZID=America/Chicago:20240910T160000
DTSTAMP:20260421T060713
CREATED:20240630T204545Z
LAST-MODIFIED:20240920T132510Z
UID:10006523-1725980400-1725984000@wellspringms.church
SUMMARY:Ladies' Bible Study
DESCRIPTION:Ladies’ Bible Study
URL:https://wellspringms.church/event/ladies-bible-study-3/2024-09-10/
LOCATION:Lost Rabbit\, 101 Louisiana St\, Madison\, MS\, 39110\, United States
CATEGORIES:Discipleship
ATTACH;FMTTYPE=image/jpeg:https://wellspringms.church/wp-content/uploads/2024/04/cropped-herrmann-stamm-19iL-6uC5C4-unsplash-scaled-1.jpg
END:VEVENT
BEGIN:VEVENT
DTSTART;TZID=America/Chicago:20240911T180000
DTEND;TZID=America/Chicago:20240911T193000
DTSTAMP:20260421T060713
CREATED:20240721T031417Z
LAST-MODIFIED:20240815T031116Z
UID:10007550-1726077600-1726083000@wellspringms.church
SUMMARY:Youth Bible Study
DESCRIPTION:Dive Deeper in our faith as we study God’s Word! \nBring a friend and your bible. \nWe will meet at different locations each week\, so be sure to check our youth insta page for details
URL:https://wellspringms.church/event/youth-bible-study-2/2024-09-11/
LOCATION:MS
CATEGORIES:Youth Group
END:VEVENT
BEGIN:VEVENT
DTSTART;TZID=America/Chicago:20240915T180000
DTEND;TZID=America/Chicago:20240915T190000
DTSTAMP:20260421T060713
CREATED:20240816T142625Z
LAST-MODIFIED:20240816T143106Z
UID:10007632-1726423200-1726426800@wellspringms.church
SUMMARY:Town Hall Meeting
DESCRIPTION:Town Hall Meeting to discuss denominational affiliation
URL:https://wellspringms.church/event/town-hall-2/
LOCATION:MS
CATEGORIES:Meetings
END:VEVENT
BEGIN:VEVENT
DTSTART;TZID=America/Chicago:20240916T180000
DTEND;TZID=America/Chicago:20240916T193000
DTSTAMP:20260421T060713
CREATED:20240513T230034Z
LAST-MODIFIED:20240719T151716Z
UID:10007460-1726509600-1726515000@wellspringms.church
SUMMARY:Outreach/Evangelism meeting
DESCRIPTION:
URL:https://wellspringms.church/event/outreach-evangelism-meeting/2024-09-16/
LOCATION:Healy Home\, 11 Brookside Place\, Madison\, MS\, 39110\, United States
CATEGORIES:missions
END:VEVENT
BEGIN:VEVENT
DTSTART;TZID=America/Chicago:20240917T103000
DTEND;TZID=America/Chicago:20240917T113000
DTSTAMP:20260421T060713
CREATED:20240630T204358Z
LAST-MODIFIED:20240920T132604Z
UID:10006264-1726569000-1726572600@wellspringms.church
SUMMARY:Ladies' Bible Study
DESCRIPTION:Ladies’ Bible Study
URL:https://wellspringms.church/event/ladies-bible-study-2/2024-09-17/
LOCATION:Lost Rabbit\, 101 Louisiana St\, Madison\, MS\, 39110\, United States
CATEGORIES:Discipleship
ATTACH;FMTTYPE=image/jpeg:https://wellspringms.church/wp-content/uploads/2024/04/cropped-herrmann-stamm-19iL-6uC5C4-unsplash-scaled-1.jpg
END:VEVENT
BEGIN:VEVENT
DTSTART;TZID=America/Chicago:20240917T150000
DTEND;TZID=America/Chicago:20240917T160000
DTSTAMP:20260421T060713
CREATED:20240630T204545Z
LAST-MODIFIED:20240920T132510Z
UID:10006524-1726585200-1726588800@wellspringms.church
SUMMARY:Ladies' Bible Study
DESCRIPTION:Ladies’ Bible Study
URL:https://wellspringms.church/event/ladies-bible-study-3/2024-09-17/
LOCATION:Lost Rabbit\, 101 Louisiana St\, Madison\, MS\, 39110\, United States
CATEGORIES:Discipleship
ATTACH;FMTTYPE=image/jpeg:https://wellspringms.church/wp-content/uploads/2024/04/cropped-herrmann-stamm-19iL-6uC5C4-unsplash-scaled-1.jpg
END:VEVENT
BEGIN:VEVENT
DTSTART;TZID=America/Chicago:20240918T120000
DTEND;TZID=America/Chicago:20240918T130000
DTSTAMP:20260421T060713
CREATED:20240410T211400Z
LAST-MODIFIED:20240903T221313Z
UID:10007312-1726660800-1726664400@wellspringms.church
SUMMARY:Silver Linings
DESCRIPTION:Silver Linings is an older adult small group that meets the third Wednesday of each month at noon at Chicken Salad Chick in Madison.
URL:https://wellspringms.church/event/silver-linings/2024-09-18/
LOCATION:Chicken Salad Chick\, 1917 Main St\, Madison\, MS\, 39110\, United States
CATEGORIES:Small Group
ATTACH;FMTTYPE=image/jpeg:https://wellspringms.church/wp-content/uploads/2024/04/Silver-Linings-group-shot.jpg
END:VEVENT
BEGIN:VEVENT
DTSTART;TZID=America/Chicago:20240918T180000
DTEND;TZID=America/Chicago:20240918T193000
DTSTAMP:20260421T060713
CREATED:20240721T031417Z
LAST-MODIFIED:20240815T031116Z
UID:10007551-1726682400-1726687800@wellspringms.church
SUMMARY:Youth Bible Study
DESCRIPTION:Dive Deeper in our faith as we study God’s Word! \nBring a friend and your bible. \nWe will meet at different locations each week\, so be sure to check our youth insta page for details
URL:https://wellspringms.church/event/youth-bible-study-2/2024-09-18/
LOCATION:MS
CATEGORIES:Youth Group
END:VEVENT
BEGIN:VEVENT
DTSTART;TZID=America/Chicago:20240925T180000
DTEND;TZID=America/Chicago:20240925T193000
DTSTAMP:20260421T060713
CREATED:20240721T031417Z
LAST-MODIFIED:20240815T031116Z
UID:10007552-1727287200-1727292600@wellspringms.church
SUMMARY:Youth Bible Study
DESCRIPTION:Dive Deeper in our faith as we study God’s Word! \nBring a friend and your bible. \nWe will meet at different locations each week\, so be sure to check our youth insta page for details
URL:https://wellspringms.church/event/youth-bible-study-2/2024-09-25/
LOCATION:MS
CATEGORIES:Youth Group
END:VEVENT
BEGIN:VEVENT
DTSTART;TZID=America/Chicago:20240930T173000
DTEND;TZID=America/Chicago:20240930T193000
DTSTAMP:20260421T060713
CREATED:20240705T145625Z
LAST-MODIFIED:20240920T132808Z
UID:10007306-1727717400-1727724600@wellspringms.church
SUMMARY:Wellspring Board Meeting
DESCRIPTION:The Board of Directors will meet at 5:30pm at Holy Trinity.
URL:https://wellspringms.church/event/wellspring-board-meeting/
LOCATION:MS
CATEGORIES:Board Meeting
ATTACH;FMTTYPE=image/jpeg:https://wellspringms.church/wp-content/uploads/2024/07/qtq80-jYqduD.jpeg
END:VEVENT
END:VCALENDAR