BEGIN:VCALENDAR
VERSION:2.0
PRODID:-//Wellspring Church - ECPv6.15.20//NONSGML v1.0//EN
CALSCALE:GREGORIAN
METHOD:PUBLISH
X-WR-CALNAME:Wellspring Church
X-ORIGINAL-URL:https://wellspringms.church
X-WR-CALDESC:Events for Wellspring Church
REFRESH-INTERVAL;VALUE=DURATION:PT1H
X-Robots-Tag:noindex
X-PUBLISHED-TTL:PT1H
BEGIN:VTIMEZONE
TZID:America/Chicago
BEGIN:DAYLIGHT
TZOFFSETFROM:-0600
TZOFFSETTO:-0500
TZNAME:CDT
DTSTART:20230312T080000
END:DAYLIGHT
BEGIN:STANDARD
TZOFFSETFROM:-0500
TZOFFSETTO:-0600
TZNAME:CST
DTSTART:20231105T070000
END:STANDARD
BEGIN:DAYLIGHT
TZOFFSETFROM:-0600
TZOFFSETTO:-0500
TZNAME:CDT
DTSTART:20240310T080000
END:DAYLIGHT
BEGIN:STANDARD
TZOFFSETFROM:-0500
TZOFFSETTO:-0600
TZNAME:CST
DTSTART:20241103T070000
END:STANDARD
BEGIN:DAYLIGHT
TZOFFSETFROM:-0600
TZOFFSETTO:-0500
TZNAME:CDT
DTSTART:20250309T080000
END:DAYLIGHT
BEGIN:STANDARD
TZOFFSETFROM:-0500
TZOFFSETTO:-0600
TZNAME:CST
DTSTART:20251102T070000
END:STANDARD
END:VTIMEZONE
BEGIN:VEVENT
DTSTART;TZID=America/Chicago:20241105T180000
DTEND;TZID=America/Chicago:20241105T193000
DTSTAMP:20260419T231837
CREATED:20241015T203442Z
LAST-MODIFIED:20260205T145743Z
UID:10008483-1730829600-1730835000@wellspringms.church
SUMMARY:Ayars Bible Study/Growth Group
DESCRIPTION:Dive deep into the rich narratives of 1 Samuel in this engaging small group study\, led by Dr. Matt Ayars. Together\, we’ll explore themes of leadership\, faith\, and God’s sovereignty through the lives of Samuel\, Saul\, and David. \nWhether you’re new to Bible study or a seasoned learner\, this group offers a welcoming environment to grow in understanding and faith. Don’t miss the opportunity to learn from Dr. Ayars’ expertise and apply timeless truths to your life. \nCome with your Bible\, questions\, and a heart ready to discover God’s Word! \n#BibleStudy #1Samuel #WellspringChurch #GrowInFaith
URL:https://wellspringms.church/event/ayars-and-sarullo-bible-study-growth-group/
LOCATION:MS
CATEGORIES:Small Group
END:VEVENT
BEGIN:VEVENT
DTSTART;TZID=America/Chicago:20241106T180000
DTEND;TZID=America/Chicago:20241106T193000
DTSTAMP:20260419T231837
CREATED:20240721T031417Z
LAST-MODIFIED:20240815T031116Z
UID:10007558-1730916000-1730921400@wellspringms.church
SUMMARY:Youth Bible Study
DESCRIPTION:Dive Deeper in our faith as we study God’s Word! \nBring a friend and your bible. \nWe will meet at different locations each week\, so be sure to check our youth insta page for details
URL:https://wellspringms.church/event/youth-bible-study-2/2024-11-06/
LOCATION:MS
CATEGORIES:Youth Group
END:VEVENT
BEGIN:VEVENT
DTSTART;TZID=America/Chicago:20241108T123000
DTEND;TZID=America/Chicago:20241108T170000
DTSTAMP:20260419T231837
CREATED:20240920T150906Z
LAST-MODIFIED:20240920T151040Z
UID:10008421-1731069000-1731085200@wellspringms.church
SUMMARY:Mission Trip Golf Fundraiser
DESCRIPTION:Our Mission Team has been serving in Honduras building homes and providing much needed medical care to the people of Honduras for more than 15 years in partnership with Salt & Light Ministry Foundation (Brandon\, MS). Each year we build two homes and serve hundreds of adults and children with medical needs. The golf tournament begins at 12:30PM with lunch prior. \nDownload the Registration Form here.
URL:https://wellspringms.church/event/mission-trip-golf-fundraiser/
LOCATION:MS
CATEGORIES:Fellowship Event
END:VEVENT
BEGIN:VEVENT
DTSTART;TZID=America/Chicago:20241110T163000
DTEND;TZID=America/Chicago:20241110T193000
DTSTAMP:20260419T231837
CREATED:20241029T014127Z
LAST-MODIFIED:20241029T015316Z
UID:10008761-1731256200-1731267000@wellspringms.church
SUMMARY:Manger Mission - Adopt a Family/Child & Grab a Ornament
DESCRIPTION:Maner Mission Christmas Adoption program. \nIn collaboration with Madcaap Wellspring is adopting 50 children to help provide Christmas
URL:https://wellspringms.church/event/manger-mission-adopt-a-family-child-grab-a-ornament/
LOCATION:MS
CATEGORIES:missions
END:VEVENT
BEGIN:VEVENT
DTSTART;TZID=America/Chicago:20241110T181500
DTEND;TZID=America/Chicago:20241110T190000
DTSTAMP:20260419T231837
CREATED:20241028T231107Z
LAST-MODIFIED:20241028T232241Z
UID:10008742-1731262500-1731265200@wellspringms.church
SUMMARY:Town Hall Meeting: Denominational Affiliation
DESCRIPTION:In this Town Hall meeting\, the Ad Hoc Denominational Affiliation Committee will report its results to the congregation for feedback.
URL:https://wellspringms.church/event/town-hall-meeting-denominational-affiliation/
LOCATION:MS
CATEGORIES:Meetings
END:VEVENT
BEGIN:VEVENT
DTSTART;TZID=America/Chicago:20241112T180000
DTEND;TZID=America/Chicago:20241112T193000
DTSTAMP:20260419T231837
CREATED:20241015T203442Z
LAST-MODIFIED:20260205T145743Z
UID:10008484-1731434400-1731439800@wellspringms.church
SUMMARY:Ayars Bible Study/Growth Group
DESCRIPTION:Dive deep into the rich narratives of 1 Samuel in this engaging small group study\, led by Dr. Matt Ayars. Together\, we’ll explore themes of leadership\, faith\, and God’s sovereignty through the lives of Samuel\, Saul\, and David. \nWhether you’re new to Bible study or a seasoned learner\, this group offers a welcoming environment to grow in understanding and faith. Don’t miss the opportunity to learn from Dr. Ayars’ expertise and apply timeless truths to your life. \nCome with your Bible\, questions\, and a heart ready to discover God’s Word! \n#BibleStudy #1Samuel #WellspringChurch #GrowInFaith
URL:https://wellspringms.church/event/ayars-and-sarullo-bible-study-growth-group/
LOCATION:MS
CATEGORIES:Small Group
END:VEVENT
BEGIN:VEVENT
DTSTART;TZID=America/Chicago:20241113T180000
DTEND;TZID=America/Chicago:20241113T193000
DTSTAMP:20260419T231837
CREATED:20240721T031417Z
LAST-MODIFIED:20240815T031116Z
UID:10007559-1731520800-1731526200@wellspringms.church
SUMMARY:Youth Bible Study
DESCRIPTION:Dive Deeper in our faith as we study God’s Word! \nBring a friend and your bible. \nWe will meet at different locations each week\, so be sure to check our youth insta page for details
URL:https://wellspringms.church/event/youth-bible-study-2/2024-11-13/
LOCATION:MS
CATEGORIES:Youth Group
END:VEVENT
BEGIN:VEVENT
DTSTART;TZID=America/Chicago:20241116T093000
DTEND;TZID=America/Chicago:20241116T233000
DTSTAMP:20260419T231837
CREATED:20241111T204109Z
LAST-MODIFIED:20241111T204109Z
UID:10009048-1731749400-1731799800@wellspringms.church
SUMMARY:Open House
DESCRIPTION:All are welcome!
URL:https://wellspringms.church/event/open-house/
LOCATION:MS
CATEGORIES:Fellowship Event
END:VEVENT
BEGIN:VEVENT
DTSTART;TZID=America/Chicago:20241117T163000
DTEND;TZID=America/Chicago:20241117T193000
DTSTAMP:20260419T231837
CREATED:20241029T014127Z
LAST-MODIFIED:20241029T015316Z
UID:10008763-1731861000-1731871800@wellspringms.church
SUMMARY:Manger Mission - Adopt a Family/Child & Grab a Ornament
DESCRIPTION:Maner Mission Christmas Adoption program. \nIn collaboration with Madcaap Wellspring is adopting 50 children to help provide Christmas
URL:https://wellspringms.church/event/manger-mission-adopt-a-family-child-grab-a-ornament/
LOCATION:MS
CATEGORIES:missions
END:VEVENT
BEGIN:VEVENT
DTSTART;TZID=America/Chicago:20241117T181500
DTEND;TZID=America/Chicago:20241117T183000
DTSTAMP:20260419T231837
CREATED:20241029T000051Z
LAST-MODIFIED:20241029T000051Z
UID:10008743-1731867300-1731868200@wellspringms.church
SUMMARY:Denominational Affiliation Vote
DESCRIPTION:Voting for denominational affiliation
URL:https://wellspringms.church/event/denominational-affiliation-vote/
LOCATION:MS
CATEGORIES:Meetings
END:VEVENT
BEGIN:VEVENT
DTSTART;TZID=America/Chicago:20241118T180000
DTEND;TZID=America/Chicago:20241118T193000
DTSTAMP:20260419T231837
CREATED:20240513T230034Z
LAST-MODIFIED:20240719T151716Z
UID:10007462-1731952800-1731958200@wellspringms.church
SUMMARY:Outreach/Evangelism meeting
DESCRIPTION:
URL:https://wellspringms.church/event/outreach-evangelism-meeting/2024-11-18/
LOCATION:Healy Home\, 11 Brookside Place\, Madison\, MS\, 39110\, United States
CATEGORIES:missions
END:VEVENT
BEGIN:VEVENT
DTSTART;TZID=America/Chicago:20241119T180000
DTEND;TZID=America/Chicago:20241119T193000
DTSTAMP:20260419T231837
CREATED:20241015T203442Z
LAST-MODIFIED:20260205T145743Z
UID:10008485-1732039200-1732044600@wellspringms.church
SUMMARY:Ayars Bible Study/Growth Group
DESCRIPTION:Dive deep into the rich narratives of 1 Samuel in this engaging small group study\, led by Dr. Matt Ayars. Together\, we’ll explore themes of leadership\, faith\, and God’s sovereignty through the lives of Samuel\, Saul\, and David. \nWhether you’re new to Bible study or a seasoned learner\, this group offers a welcoming environment to grow in understanding and faith. Don’t miss the opportunity to learn from Dr. Ayars’ expertise and apply timeless truths to your life. \nCome with your Bible\, questions\, and a heart ready to discover God’s Word! \n#BibleStudy #1Samuel #WellspringChurch #GrowInFaith
URL:https://wellspringms.church/event/ayars-and-sarullo-bible-study-growth-group/
LOCATION:MS
CATEGORIES:Small Group
END:VEVENT
BEGIN:VEVENT
DTSTART;TZID=America/Chicago:20241120T120000
DTEND;TZID=America/Chicago:20241120T130000
DTSTAMP:20260419T231837
CREATED:20240410T211400Z
LAST-MODIFIED:20240903T221313Z
UID:10007314-1732104000-1732107600@wellspringms.church
SUMMARY:Silver Linings
DESCRIPTION:Silver Linings is an older adult small group that meets the third Wednesday of each month at noon at Chicken Salad Chick in Madison.
URL:https://wellspringms.church/event/silver-linings/2024-11-20/
LOCATION:Chicken Salad Chick\, 1917 Main St\, Madison\, MS\, 39110\, United States
CATEGORIES:Small Group
ATTACH;FMTTYPE=image/jpeg:https://wellspringms.church/wp-content/uploads/2024/04/Silver-Linings-group-shot.jpg
END:VEVENT
BEGIN:VEVENT
DTSTART;TZID=America/Chicago:20241120T180000
DTEND;TZID=America/Chicago:20241120T193000
DTSTAMP:20260419T231837
CREATED:20240721T031417Z
LAST-MODIFIED:20240815T031116Z
UID:10007560-1732125600-1732131000@wellspringms.church
SUMMARY:Youth Bible Study
DESCRIPTION:Dive Deeper in our faith as we study God’s Word! \nBring a friend and your bible. \nWe will meet at different locations each week\, so be sure to check our youth insta page for details
URL:https://wellspringms.church/event/youth-bible-study-2/2024-11-20/
LOCATION:MS
CATEGORIES:Youth Group
END:VEVENT
BEGIN:VEVENT
DTSTART;TZID=America/Chicago:20241121T180000
DTEND;TZID=America/Chicago:20241121T193000
DTSTAMP:20260419T231837
CREATED:20241119T004933Z
LAST-MODIFIED:20241119T004933Z
UID:10009060-1732212000-1732217400@wellspringms.church
SUMMARY:New Building Dedication Service
DESCRIPTION:
URL:https://wellspringms.church/event/new-building-dedication-service/
LOCATION:MS
END:VEVENT
BEGIN:VEVENT
DTSTART;TZID=America/Chicago:20241124T163000
DTEND;TZID=America/Chicago:20241124T193000
DTSTAMP:20260419T231837
CREATED:20241029T014127Z
LAST-MODIFIED:20241029T015316Z
UID:10008764-1732465800-1732476600@wellspringms.church
SUMMARY:Manger Mission - Adopt a Family/Child & Grab a Ornament
DESCRIPTION:Maner Mission Christmas Adoption program. \nIn collaboration with Madcaap Wellspring is adopting 50 children to help provide Christmas
URL:https://wellspringms.church/event/manger-mission-adopt-a-family-child-grab-a-ornament/
LOCATION:MS
CATEGORIES:missions
END:VEVENT
BEGIN:VEVENT
DTSTART;TZID=America/Chicago:20241126T180000
DTEND;TZID=America/Chicago:20241126T193000
DTSTAMP:20260419T231837
CREATED:20241015T203442Z
LAST-MODIFIED:20260205T145743Z
UID:10008486-1732644000-1732649400@wellspringms.church
SUMMARY:Ayars Bible Study/Growth Group
DESCRIPTION:Dive deep into the rich narratives of 1 Samuel in this engaging small group study\, led by Dr. Matt Ayars. Together\, we’ll explore themes of leadership\, faith\, and God’s sovereignty through the lives of Samuel\, Saul\, and David. \nWhether you’re new to Bible study or a seasoned learner\, this group offers a welcoming environment to grow in understanding and faith. Don’t miss the opportunity to learn from Dr. Ayars’ expertise and apply timeless truths to your life. \nCome with your Bible\, questions\, and a heart ready to discover God’s Word! \n#BibleStudy #1Samuel #WellspringChurch #GrowInFaith
URL:https://wellspringms.church/event/ayars-and-sarullo-bible-study-growth-group/
LOCATION:MS
CATEGORIES:Small Group
END:VEVENT
END:VCALENDAR