BEGIN:VCALENDAR
VERSION:2.0
PRODID:-//Wellspring Church - ECPv6.15.20//NONSGML v1.0//EN
CALSCALE:GREGORIAN
METHOD:PUBLISH
X-WR-CALNAME:Wellspring Church
X-ORIGINAL-URL:https://wellspringms.church
X-WR-CALDESC:Events for Wellspring Church
REFRESH-INTERVAL;VALUE=DURATION:PT1H
X-Robots-Tag:noindex
X-PUBLISHED-TTL:PT1H
BEGIN:VTIMEZONE
TZID:America/Chicago
BEGIN:DAYLIGHT
TZOFFSETFROM:-0600
TZOFFSETTO:-0500
TZNAME:CDT
DTSTART:20230312T080000
END:DAYLIGHT
BEGIN:STANDARD
TZOFFSETFROM:-0500
TZOFFSETTO:-0600
TZNAME:CST
DTSTART:20231105T070000
END:STANDARD
BEGIN:DAYLIGHT
TZOFFSETFROM:-0600
TZOFFSETTO:-0500
TZNAME:CDT
DTSTART:20240310T080000
END:DAYLIGHT
BEGIN:STANDARD
TZOFFSETFROM:-0500
TZOFFSETTO:-0600
TZNAME:CST
DTSTART:20241103T070000
END:STANDARD
BEGIN:DAYLIGHT
TZOFFSETFROM:-0600
TZOFFSETTO:-0500
TZNAME:CDT
DTSTART:20250309T080000
END:DAYLIGHT
BEGIN:STANDARD
TZOFFSETFROM:-0500
TZOFFSETTO:-0600
TZNAME:CST
DTSTART:20251102T070000
END:STANDARD
END:VTIMEZONE
BEGIN:VEVENT
DTSTART;TZID=America/Chicago:20241201T163000
DTEND;TZID=America/Chicago:20241201T193000
DTSTAMP:20260419T212454
CREATED:20241029T014127Z
LAST-MODIFIED:20241029T015316Z
UID:10008765-1733070600-1733081400@wellspringms.church
SUMMARY:Manger Mission - Adopt a Family/Child & Grab a Ornament
DESCRIPTION:Maner Mission Christmas Adoption program. \nIn collaboration with Madcaap Wellspring is adopting 50 children to help provide Christmas
URL:https://wellspringms.church/event/manger-mission-adopt-a-family-child-grab-a-ornament/
LOCATION:MS
CATEGORIES:missions
END:VEVENT
BEGIN:VEVENT
DTSTART;TZID=America/Chicago:20241203T180000
DTEND;TZID=America/Chicago:20241203T193000
DTSTAMP:20260419T212454
CREATED:20241015T203442Z
LAST-MODIFIED:20260205T145743Z
UID:10008487-1733248800-1733254200@wellspringms.church
SUMMARY:Ayars Bible Study/Growth Group
DESCRIPTION:Dive deep into the rich narratives of 1 Samuel in this engaging small group study\, led by Dr. Matt Ayars. Together\, we’ll explore themes of leadership\, faith\, and God’s sovereignty through the lives of Samuel\, Saul\, and David. \nWhether you’re new to Bible study or a seasoned learner\, this group offers a welcoming environment to grow in understanding and faith. Don’t miss the opportunity to learn from Dr. Ayars’ expertise and apply timeless truths to your life. \nCome with your Bible\, questions\, and a heart ready to discover God’s Word! \n#BibleStudy #1Samuel #WellspringChurch #GrowInFaith
URL:https://wellspringms.church/event/ayars-and-sarullo-bible-study-growth-group/
LOCATION:MS
CATEGORIES:Small Group
END:VEVENT
BEGIN:VEVENT
DTSTART;TZID=America/Chicago:20241204T180000
DTEND;TZID=America/Chicago:20241204T193000
DTSTAMP:20260419T212454
CREATED:20240721T032023Z
LAST-MODIFIED:20240721T032023Z
UID:10007561-1733335200-1733340600@wellspringms.church
SUMMARY:Youth - Shop for Manger Mission
DESCRIPTION:Dinner and Shop for Manger Mission Youth \nBring $ to help buy gifts and dinner
URL:https://wellspringms.church/event/youth-shop-for-manger-mission/
LOCATION:MS
CATEGORIES:Youth Group
END:VEVENT
BEGIN:VEVENT
DTSTART;TZID=America/Chicago:20241208T080000
DTEND;TZID=America/Chicago:20241208T130000
DTSTAMP:20260419T212454
CREATED:20241029T014636Z
LAST-MODIFIED:20241029T014636Z
UID:10008762-1733644800-1733662800@wellspringms.church
SUMMARY:Manger Mission - Fill the Manger
DESCRIPTION:Drop your food $ donation in the manger (use the envelopes provided)
URL:https://wellspringms.church/event/manger-mission-fill-the-manger/
LOCATION:MS
CATEGORIES:missions
END:VEVENT
BEGIN:VEVENT
DTSTART;TZID=America/Chicago:20241210T180000
DTEND;TZID=America/Chicago:20241210T193000
DTSTAMP:20260419T212454
CREATED:20241015T203442Z
LAST-MODIFIED:20260205T145743Z
UID:10008488-1733853600-1733859000@wellspringms.church
SUMMARY:Ayars Bible Study/Growth Group
DESCRIPTION:Dive deep into the rich narratives of 1 Samuel in this engaging small group study\, led by Dr. Matt Ayars. Together\, we’ll explore themes of leadership\, faith\, and God’s sovereignty through the lives of Samuel\, Saul\, and David. \nWhether you’re new to Bible study or a seasoned learner\, this group offers a welcoming environment to grow in understanding and faith. Don’t miss the opportunity to learn from Dr. Ayars’ expertise and apply timeless truths to your life. \nCome with your Bible\, questions\, and a heart ready to discover God’s Word! \n#BibleStudy #1Samuel #WellspringChurch #GrowInFaith
URL:https://wellspringms.church/event/ayars-and-sarullo-bible-study-growth-group/
LOCATION:MS
CATEGORIES:Small Group
END:VEVENT
BEGIN:VEVENT
DTSTART;TZID=America/Chicago:20241211T090000
DTEND;TZID=America/Chicago:20241215T170000
DTSTAMP:20260419T212454
CREATED:20241029T020016Z
LAST-MODIFIED:20241029T020016Z
UID:10008766-1733907600-1734282000@wellspringms.church
SUMMARY:Manger Mission - Fill the Boxes with Gifts
DESCRIPTION:Bring your wrapped gifts with child’s name and place in appropriate box number for your adopted family/child.
URL:https://wellspringms.church/event/manger-mission-fill-the-boxes-with-gifts/
LOCATION:MS
CATEGORIES:missions
END:VEVENT
BEGIN:VEVENT
DTSTART;TZID=America/Chicago:20241211T180000
DTEND;TZID=America/Chicago:20241211T190000
DTSTAMP:20260419T212454
CREATED:20241205T143354Z
LAST-MODIFIED:20241205T143354Z
UID:10009134-1733940000-1733943600@wellspringms.church
SUMMARY:Christmas Hymn Sing
DESCRIPTION:Join us to sing Christmas hymns!
URL:https://wellspringms.church/event/christmas-hymn-sing/
LOCATION:MS
CATEGORIES:Fellowship Event
END:VEVENT
BEGIN:VEVENT
DTSTART;TZID=America/Chicago:20241211T180000
DTEND;TZID=America/Chicago:20241211T193000
DTSTAMP:20260419T212454
CREATED:20240721T032221Z
LAST-MODIFIED:20240721T032221Z
UID:10007562-1733940000-1733945400@wellspringms.church
SUMMARY:Youth - help with Manger Mission
DESCRIPTION:Help sort and organize for Manger Mission
URL:https://wellspringms.church/event/youth-help-with-manger-mission/
LOCATION:MS
CATEGORIES:Youth Group
END:VEVENT
BEGIN:VEVENT
DTSTART;TZID=America/Chicago:20241216T100000
DTEND;TZID=America/Chicago:20241216T120000
DTSTAMP:20260419T212454
CREATED:20241029T020224Z
LAST-MODIFIED:20241029T020224Z
UID:10008767-1734343200-1734350400@wellspringms.church
SUMMARY:Manger Mission - Delivery Day
DESCRIPTION:We need trucks and trailers to help us deliver the gifts to MadCAAP.
URL:https://wellspringms.church/event/manger-mission-delivery-day/
LOCATION:MS
CATEGORIES:missions
END:VEVENT
BEGIN:VEVENT
DTSTART;TZID=America/Chicago:20241217T180000
DTEND;TZID=America/Chicago:20241217T193000
DTSTAMP:20260419T212454
CREATED:20241015T203442Z
LAST-MODIFIED:20260205T145743Z
UID:10008489-1734458400-1734463800@wellspringms.church
SUMMARY:Ayars Bible Study/Growth Group
DESCRIPTION:Dive deep into the rich narratives of 1 Samuel in this engaging small group study\, led by Dr. Matt Ayars. Together\, we’ll explore themes of leadership\, faith\, and God’s sovereignty through the lives of Samuel\, Saul\, and David. \nWhether you’re new to Bible study or a seasoned learner\, this group offers a welcoming environment to grow in understanding and faith. Don’t miss the opportunity to learn from Dr. Ayars’ expertise and apply timeless truths to your life. \nCome with your Bible\, questions\, and a heart ready to discover God’s Word! \n#BibleStudy #1Samuel #WellspringChurch #GrowInFaith
URL:https://wellspringms.church/event/ayars-and-sarullo-bible-study-growth-group/
LOCATION:MS
CATEGORIES:Small Group
END:VEVENT
BEGIN:VEVENT
DTSTART;TZID=America/Chicago:20241218T120000
DTEND;TZID=America/Chicago:20241218T130000
DTSTAMP:20260419T212454
CREATED:20240410T211400Z
LAST-MODIFIED:20240903T221313Z
UID:10007315-1734523200-1734526800@wellspringms.church
SUMMARY:Silver Linings
DESCRIPTION:Silver Linings is an older adult small group that meets the third Wednesday of each month at noon at Chicken Salad Chick in Madison.
URL:https://wellspringms.church/event/silver-linings/2024-12-18/
LOCATION:Chicken Salad Chick\, 1917 Main St\, Madison\, MS\, 39110\, United States
CATEGORIES:Small Group
ATTACH;FMTTYPE=image/jpeg:https://wellspringms.church/wp-content/uploads/2024/04/Silver-Linings-group-shot.jpg
END:VEVENT
BEGIN:VEVENT
DTSTART;TZID=America/Chicago:20241219T190000
DTEND;TZID=America/Chicago:20241219T203000
DTSTAMP:20260419T212454
CREATED:20241030T183242Z
LAST-MODIFIED:20241205T181745Z
UID:10008768-1734634800-1734640200@wellspringms.church
SUMMARY:Voices of Mobile Concert
DESCRIPTION:Click here to reserve tickets.
URL:https://wellspringms.church/event/voices-of-mobile-concert/
LOCATION:MS
CATEGORIES:Worship Service
END:VEVENT
BEGIN:VEVENT
DTSTART;TZID=America/Chicago:20241224T163000
DTEND;TZID=America/Chicago:20241224T173000
DTSTAMP:20260419T212454
CREATED:20241205T202927Z
LAST-MODIFIED:20241205T202927Z
UID:10009135-1735057800-1735061400@wellspringms.church
SUMMARY:Christmas Eve Candlelight Service
DESCRIPTION:Join us for our Christmas Eve candlelight service featuring singing\, a short sermon\, and fellowship. Bring the kids in their pjs!
URL:https://wellspringms.church/event/christmas-eve-candlelight-service/
LOCATION:MS
CATEGORIES:Worship Service
END:VEVENT
BEGIN:VEVENT
DTSTART;TZID=America/Chicago:20241224T180000
DTEND;TZID=America/Chicago:20241224T193000
DTSTAMP:20260419T212454
CREATED:20241015T203442Z
LAST-MODIFIED:20260205T145743Z
UID:10008490-1735063200-1735068600@wellspringms.church
SUMMARY:Ayars Bible Study/Growth Group
DESCRIPTION:Dive deep into the rich narratives of 1 Samuel in this engaging small group study\, led by Dr. Matt Ayars. Together\, we’ll explore themes of leadership\, faith\, and God’s sovereignty through the lives of Samuel\, Saul\, and David. \nWhether you’re new to Bible study or a seasoned learner\, this group offers a welcoming environment to grow in understanding and faith. Don’t miss the opportunity to learn from Dr. Ayars’ expertise and apply timeless truths to your life. \nCome with your Bible\, questions\, and a heart ready to discover God’s Word! \n#BibleStudy #1Samuel #WellspringChurch #GrowInFaith
URL:https://wellspringms.church/event/ayars-and-sarullo-bible-study-growth-group/
LOCATION:MS
CATEGORIES:Small Group
END:VEVENT
BEGIN:VEVENT
DTSTART;TZID=America/Chicago:20241231T180000
DTEND;TZID=America/Chicago:20241231T193000
DTSTAMP:20260419T212454
CREATED:20241015T203442Z
LAST-MODIFIED:20260205T145743Z
UID:10008491-1735668000-1735673400@wellspringms.church
SUMMARY:Ayars Bible Study/Growth Group
DESCRIPTION:Dive deep into the rich narratives of 1 Samuel in this engaging small group study\, led by Dr. Matt Ayars. Together\, we’ll explore themes of leadership\, faith\, and God’s sovereignty through the lives of Samuel\, Saul\, and David. \nWhether you’re new to Bible study or a seasoned learner\, this group offers a welcoming environment to grow in understanding and faith. Don’t miss the opportunity to learn from Dr. Ayars’ expertise and apply timeless truths to your life. \nCome with your Bible\, questions\, and a heart ready to discover God’s Word! \n#BibleStudy #1Samuel #WellspringChurch #GrowInFaith
URL:https://wellspringms.church/event/ayars-and-sarullo-bible-study-growth-group/
LOCATION:MS
CATEGORIES:Small Group
END:VEVENT
END:VCALENDAR