BEGIN:VCALENDAR
VERSION:2.0
PRODID:-//Wellspring Church - ECPv6.15.20//NONSGML v1.0//EN
CALSCALE:GREGORIAN
METHOD:PUBLISH
X-WR-CALNAME:Wellspring Church
X-ORIGINAL-URL:https://wellspringms.church
X-WR-CALDESC:Events for Wellspring Church
REFRESH-INTERVAL;VALUE=DURATION:PT1H
X-Robots-Tag:noindex
X-PUBLISHED-TTL:PT1H
BEGIN:VTIMEZONE
TZID:America/Chicago
BEGIN:DAYLIGHT
TZOFFSETFROM:-0600
TZOFFSETTO:-0500
TZNAME:CDT
DTSTART:20240310T080000
END:DAYLIGHT
BEGIN:STANDARD
TZOFFSETFROM:-0500
TZOFFSETTO:-0600
TZNAME:CST
DTSTART:20241103T070000
END:STANDARD
BEGIN:DAYLIGHT
TZOFFSETFROM:-0600
TZOFFSETTO:-0500
TZNAME:CDT
DTSTART:20250309T080000
END:DAYLIGHT
BEGIN:STANDARD
TZOFFSETFROM:-0500
TZOFFSETTO:-0600
TZNAME:CST
DTSTART:20251102T070000
END:STANDARD
BEGIN:DAYLIGHT
TZOFFSETFROM:-0600
TZOFFSETTO:-0500
TZNAME:CDT
DTSTART:20260308T080000
END:DAYLIGHT
BEGIN:STANDARD
TZOFFSETFROM:-0500
TZOFFSETTO:-0600
TZNAME:CST
DTSTART:20261101T070000
END:STANDARD
END:VTIMEZONE
BEGIN:VEVENT
DTSTART;TZID=America/Chicago:20250107T180000
DTEND;TZID=America/Chicago:20250107T193000
DTSTAMP:20260419T194359
CREATED:20241015T203442Z
LAST-MODIFIED:20260205T145743Z
UID:10008492-1736272800-1736278200@wellspringms.church
SUMMARY:Ayars Bible Study/Growth Group
DESCRIPTION:Dive deep into the rich narratives of 1 Samuel in this engaging small group study\, led by Dr. Matt Ayars. Together\, we’ll explore themes of leadership\, faith\, and God’s sovereignty through the lives of Samuel\, Saul\, and David. \nWhether you’re new to Bible study or a seasoned learner\, this group offers a welcoming environment to grow in understanding and faith. Don’t miss the opportunity to learn from Dr. Ayars’ expertise and apply timeless truths to your life. \nCome with your Bible\, questions\, and a heart ready to discover God’s Word! \n#BibleStudy #1Samuel #WellspringChurch #GrowInFaith
URL:https://wellspringms.church/event/ayars-and-sarullo-bible-study-growth-group/
LOCATION:MS
CATEGORIES:Small Group
END:VEVENT
BEGIN:VEVENT
DTSTART;TZID=America/Chicago:20250108T080000
DTEND;TZID=America/Chicago:20250108T170000
DTSTAMP:20260419T194359
CREATED:20241231T054258Z
LAST-MODIFIED:20250424T033025Z
UID:10011144-1736323200-1736355600@wellspringms.church
SUMMARY:Youth Bible Study
DESCRIPTION:Dive Deeper in our faith as we study God’s Word! \nBring a friend and your bible. \n 
URL:https://wellspringms.church/event/youth-bible-study-3/
LOCATION:MS
CATEGORIES:Youth Group
END:VEVENT
BEGIN:VEVENT
DTSTART;TZID=America/Chicago:20250108T180000
DTEND;TZID=America/Chicago:20250108T190000
DTSTAMP:20260419T194359
CREATED:20241231T054258Z
LAST-MODIFIED:20250424T033025Z
UID:10010180-1736359200-1736362800@wellspringms.church
SUMMARY:Youth Bible Study
DESCRIPTION:Dive Deeper in our faith as we study God’s Word! \nBring a friend and your bible. \n 
URL:https://wellspringms.church/event/youth-bible-study-3/
LOCATION:MS
CATEGORIES:Youth Group
END:VEVENT
BEGIN:VEVENT
DTSTART;TZID=America/Chicago:20250114T180000
DTEND;TZID=America/Chicago:20250114T193000
DTSTAMP:20260419T194359
CREATED:20241015T203442Z
LAST-MODIFIED:20260205T145743Z
UID:10008493-1736877600-1736883000@wellspringms.church
SUMMARY:Ayars Bible Study/Growth Group
DESCRIPTION:Dive deep into the rich narratives of 1 Samuel in this engaging small group study\, led by Dr. Matt Ayars. Together\, we’ll explore themes of leadership\, faith\, and God’s sovereignty through the lives of Samuel\, Saul\, and David. \nWhether you’re new to Bible study or a seasoned learner\, this group offers a welcoming environment to grow in understanding and faith. Don’t miss the opportunity to learn from Dr. Ayars’ expertise and apply timeless truths to your life. \nCome with your Bible\, questions\, and a heart ready to discover God’s Word! \n#BibleStudy #1Samuel #WellspringChurch #GrowInFaith
URL:https://wellspringms.church/event/ayars-and-sarullo-bible-study-growth-group/
LOCATION:MS
CATEGORIES:Small Group
END:VEVENT
BEGIN:VEVENT
DTSTART;TZID=America/Chicago:20250115T120000
DTEND;TZID=America/Chicago:20250115T130000
DTSTAMP:20260419T194359
CREATED:20240410T211400Z
LAST-MODIFIED:20240903T221313Z
UID:10007316-1736942400-1736946000@wellspringms.church
SUMMARY:Silver Linings
DESCRIPTION:Silver Linings is an older adult small group that meets the third Wednesday of each month at noon at Chicken Salad Chick in Madison.
URL:https://wellspringms.church/event/silver-linings/2025-01-15/
LOCATION:Chicken Salad Chick\, 1917 Main St\, Madison\, MS\, 39110\, United States
CATEGORIES:Small Group
ATTACH;FMTTYPE=image/jpeg:https://wellspringms.church/wp-content/uploads/2024/04/Silver-Linings-group-shot.jpg
END:VEVENT
BEGIN:VEVENT
DTSTART;TZID=America/Chicago:20250115T180000
DTEND;TZID=America/Chicago:20250115T190000
DTSTAMP:20260419T194359
CREATED:20241231T054258Z
LAST-MODIFIED:20250424T033025Z
UID:10010181-1736964000-1736967600@wellspringms.church
SUMMARY:Youth Bible Study
DESCRIPTION:Dive Deeper in our faith as we study God’s Word! \nBring a friend and your bible. \n 
URL:https://wellspringms.church/event/youth-bible-study-3/
LOCATION:MS
CATEGORIES:Youth Group
END:VEVENT
BEGIN:VEVENT
DTSTART;TZID=America/Chicago:20250121T180000
DTEND;TZID=America/Chicago:20250121T193000
DTSTAMP:20260419T194359
CREATED:20241015T203442Z
LAST-MODIFIED:20260205T145743Z
UID:10008494-1737482400-1737487800@wellspringms.church
SUMMARY:Ayars Bible Study/Growth Group
DESCRIPTION:Dive deep into the rich narratives of 1 Samuel in this engaging small group study\, led by Dr. Matt Ayars. Together\, we’ll explore themes of leadership\, faith\, and God’s sovereignty through the lives of Samuel\, Saul\, and David. \nWhether you’re new to Bible study or a seasoned learner\, this group offers a welcoming environment to grow in understanding and faith. Don’t miss the opportunity to learn from Dr. Ayars’ expertise and apply timeless truths to your life. \nCome with your Bible\, questions\, and a heart ready to discover God’s Word! \n#BibleStudy #1Samuel #WellspringChurch #GrowInFaith
URL:https://wellspringms.church/event/ayars-and-sarullo-bible-study-growth-group/
LOCATION:MS
CATEGORIES:Small Group
END:VEVENT
BEGIN:VEVENT
DTSTART;TZID=America/Chicago:20250122T180000
DTEND;TZID=America/Chicago:20250122T190000
DTSTAMP:20260419T194359
CREATED:20241231T054258Z
LAST-MODIFIED:20250424T033025Z
UID:10010182-1737568800-1737572400@wellspringms.church
SUMMARY:Youth Bible Study
DESCRIPTION:Dive Deeper in our faith as we study God’s Word! \nBring a friend and your bible. \n 
URL:https://wellspringms.church/event/youth-bible-study-3/
LOCATION:MS
CATEGORIES:Youth Group
END:VEVENT
BEGIN:VEVENT
DTSTART;TZID=America/Chicago:20250126T103000
DTEND;TZID=America/Chicago:20250126T113000
DTSTAMP:20260419T194359
CREATED:20250113T200427Z
LAST-MODIFIED:20250113T200427Z
UID:10010269-1737887400-1737891000@wellspringms.church
SUMMARY:Invite Sunday
DESCRIPTION:You’re invited to Invite Sunday at Wellspring Church! Join us for a special service designed to welcome friends\, family\, and neighbors into our church community. Experience uplifting worship\, a powerful message\, and an opportunity to connect with others in a warm and inviting atmosphere. \nBring someone with you and be part of growing our family of faith as we share the love of Christ together. We can’t wait to see you there! \nChildcare Provided \nEnjoy the service while your little ones are cared for in a safe and fun environment. \nLet’s make this Sunday unforgettable. Come and see what Wellspring Church is all about! \n#InviteSunday #WellspringChurch #CommunityFaith #EveryoneWelcome
URL:https://wellspringms.church/event/invite-sunday/
LOCATION:MS
CATEGORIES:Worship Service
END:VEVENT
BEGIN:VEVENT
DTSTART;TZID=America/Chicago:20250128T180000
DTEND;TZID=America/Chicago:20250128T193000
DTSTAMP:20260419T194359
CREATED:20241015T203442Z
LAST-MODIFIED:20260205T145743Z
UID:10008495-1738087200-1738092600@wellspringms.church
SUMMARY:Ayars Bible Study/Growth Group
DESCRIPTION:Dive deep into the rich narratives of 1 Samuel in this engaging small group study\, led by Dr. Matt Ayars. Together\, we’ll explore themes of leadership\, faith\, and God’s sovereignty through the lives of Samuel\, Saul\, and David. \nWhether you’re new to Bible study or a seasoned learner\, this group offers a welcoming environment to grow in understanding and faith. Don’t miss the opportunity to learn from Dr. Ayars’ expertise and apply timeless truths to your life. \nCome with your Bible\, questions\, and a heart ready to discover God’s Word! \n#BibleStudy #1Samuel #WellspringChurch #GrowInFaith
URL:https://wellspringms.church/event/ayars-and-sarullo-bible-study-growth-group/
LOCATION:MS
CATEGORIES:Small Group
END:VEVENT
BEGIN:VEVENT
DTSTART;TZID=America/Chicago:20250129T180000
DTEND;TZID=America/Chicago:20250129T190000
DTSTAMP:20260419T194359
CREATED:20241231T054258Z
LAST-MODIFIED:20250424T033025Z
UID:10010183-1738173600-1738177200@wellspringms.church
SUMMARY:Youth Bible Study
DESCRIPTION:Dive Deeper in our faith as we study God’s Word! \nBring a friend and your bible. \n 
URL:https://wellspringms.church/event/youth-bible-study-3/
LOCATION:MS
CATEGORIES:Youth Group
END:VEVENT
BEGIN:VEVENT
DTSTART;TZID=America/Chicago:20250131T170000
DTEND;TZID=America/Chicago:20250202T113000
DTSTAMP:20260419T194359
CREATED:20241231T060941Z
LAST-MODIFIED:20241231T060941Z
UID:10010251-1738342800-1738495800@wellspringms.church
SUMMARY:Youth- Together WKND
DESCRIPTION:Join youth of other local churches at Together WKND! \nPurpose:  ‘Living for Something Bigger than Yourself’  Proverbs 19:21 \nYouth will stay at Host Homes for the weekend (girls at one\, boys at another)
URL:https://wellspringms.church/event/youth-together-wknd/
LOCATION:MS
CATEGORIES:Youth Group
END:VEVENT
END:VCALENDAR