BEGIN:VCALENDAR
VERSION:2.0
PRODID:-//Wellspring Church - ECPv6.15.20//NONSGML v1.0//EN
CALSCALE:GREGORIAN
METHOD:PUBLISH
X-ORIGINAL-URL:https://wellspringms.church
X-WR-CALDESC:Events for Wellspring Church
REFRESH-INTERVAL;VALUE=DURATION:PT1H
X-Robots-Tag:noindex
X-PUBLISHED-TTL:PT1H
BEGIN:VTIMEZONE
TZID:America/Chicago
BEGIN:DAYLIGHT
TZOFFSETFROM:-0600
TZOFFSETTO:-0500
TZNAME:CDT
DTSTART:20240310T080000
END:DAYLIGHT
BEGIN:STANDARD
TZOFFSETFROM:-0500
TZOFFSETTO:-0600
TZNAME:CST
DTSTART:20241103T070000
END:STANDARD
BEGIN:DAYLIGHT
TZOFFSETFROM:-0600
TZOFFSETTO:-0500
TZNAME:CDT
DTSTART:20250309T080000
END:DAYLIGHT
BEGIN:STANDARD
TZOFFSETFROM:-0500
TZOFFSETTO:-0600
TZNAME:CST
DTSTART:20251102T070000
END:STANDARD
BEGIN:DAYLIGHT
TZOFFSETFROM:-0600
TZOFFSETTO:-0500
TZNAME:CDT
DTSTART:20260308T080000
END:DAYLIGHT
BEGIN:STANDARD
TZOFFSETFROM:-0500
TZOFFSETTO:-0600
TZNAME:CST
DTSTART:20261101T070000
END:STANDARD
END:VTIMEZONE
BEGIN:VEVENT
DTSTART;TZID=America/Chicago:20250304T180000
DTEND;TZID=America/Chicago:20250304T193000
DTSTAMP:20260419T090455
CREATED:20241015T203442Z
LAST-MODIFIED:20260205T145743Z
UID:10008500-1741111200-1741116600@wellspringms.church
SUMMARY:Ayars Bible Study/Growth Group
DESCRIPTION:Dive deep into the rich narratives of 1 Samuel in this engaging small group study\, led by Dr. Matt Ayars. Together\, we’ll explore themes of leadership\, faith\, and God’s sovereignty through the lives of Samuel\, Saul\, and David. \nWhether you’re new to Bible study or a seasoned learner\, this group offers a welcoming environment to grow in understanding and faith. Don’t miss the opportunity to learn from Dr. Ayars’ expertise and apply timeless truths to your life. \nCome with your Bible\, questions\, and a heart ready to discover God’s Word! \n#BibleStudy #1Samuel #WellspringChurch #GrowInFaith
URL:https://wellspringms.church/event/ayars-and-sarullo-bible-study-growth-group/
LOCATION:MS
CATEGORIES:Small Group
END:VEVENT
BEGIN:VEVENT
DTSTART;TZID=America/Chicago:20250305T180000
DTEND;TZID=America/Chicago:20250305T190000
DTSTAMP:20260419T090455
CREATED:20241231T054258Z
LAST-MODIFIED:20250424T033025Z
UID:10010188-1741197600-1741201200@wellspringms.church
SUMMARY:Youth Bible Study
DESCRIPTION:Dive Deeper in our faith as we study God’s Word! \nBring a friend and your bible. \n 
URL:https://wellspringms.church/event/youth-bible-study-3/
LOCATION:MS
CATEGORIES:Youth Group
END:VEVENT
BEGIN:VEVENT
DTSTART;TZID=America/Chicago:20250305T180000
DTEND;TZID=America/Chicago:20250305T190000
DTSTAMP:20260419T090455
CREATED:20250221T195128Z
LAST-MODIFIED:20250221T195128Z
UID:10010596-1741197600-1741201200@wellspringms.church
SUMMARY:Ash Wednesday Service
DESCRIPTION:Join us as we prepare to enter the season of Lent which begins with our Ash Wednesday Service.
URL:https://wellspringms.church/event/ash-wednesday-service/
LOCATION:MS
CATEGORIES:Worship Service
END:VEVENT
BEGIN:VEVENT
DTSTART;TZID=America/Chicago:20250310T173000
DTEND;TZID=America/Chicago:20250310T183000
DTSTAMP:20260419T090455
CREATED:20250220T203227Z
LAST-MODIFIED:20250220T203227Z
UID:10010536-1741627800-1741631400@wellspringms.church
SUMMARY:Trustees Meeting
DESCRIPTION:
URL:https://wellspringms.church/event/trustees-meeting/
LOCATION:MS
CATEGORIES:Meetings
END:VEVENT
BEGIN:VEVENT
DTSTART;TZID=America/Chicago:20250311T180000
DTEND;TZID=America/Chicago:20250311T193000
DTSTAMP:20260419T090455
CREATED:20241015T203442Z
LAST-MODIFIED:20260205T145743Z
UID:10008501-1741716000-1741721400@wellspringms.church
SUMMARY:Ayars Bible Study/Growth Group
DESCRIPTION:Dive deep into the rich narratives of 1 Samuel in this engaging small group study\, led by Dr. Matt Ayars. Together\, we’ll explore themes of leadership\, faith\, and God’s sovereignty through the lives of Samuel\, Saul\, and David. \nWhether you’re new to Bible study or a seasoned learner\, this group offers a welcoming environment to grow in understanding and faith. Don’t miss the opportunity to learn from Dr. Ayars’ expertise and apply timeless truths to your life. \nCome with your Bible\, questions\, and a heart ready to discover God’s Word! \n#BibleStudy #1Samuel #WellspringChurch #GrowInFaith
URL:https://wellspringms.church/event/ayars-and-sarullo-bible-study-growth-group/
LOCATION:MS
CATEGORIES:Small Group
END:VEVENT
BEGIN:VEVENT
DTSTART;TZID=America/Chicago:20250318T180000
DTEND;TZID=America/Chicago:20250318T193000
DTSTAMP:20260419T090455
CREATED:20241015T203442Z
LAST-MODIFIED:20260205T145743Z
UID:10008502-1742320800-1742326200@wellspringms.church
SUMMARY:Ayars Bible Study/Growth Group
DESCRIPTION:Dive deep into the rich narratives of 1 Samuel in this engaging small group study\, led by Dr. Matt Ayars. Together\, we’ll explore themes of leadership\, faith\, and God’s sovereignty through the lives of Samuel\, Saul\, and David. \nWhether you’re new to Bible study or a seasoned learner\, this group offers a welcoming environment to grow in understanding and faith. Don’t miss the opportunity to learn from Dr. Ayars’ expertise and apply timeless truths to your life. \nCome with your Bible\, questions\, and a heart ready to discover God’s Word! \n#BibleStudy #1Samuel #WellspringChurch #GrowInFaith
URL:https://wellspringms.church/event/ayars-and-sarullo-bible-study-growth-group/
LOCATION:MS
CATEGORIES:Small Group
END:VEVENT
BEGIN:VEVENT
DTSTART;TZID=America/Chicago:20250319T120000
DTEND;TZID=America/Chicago:20250319T130000
DTSTAMP:20260419T090455
CREATED:20250212T214258Z
LAST-MODIFIED:20250216T142557Z
UID:10007318-1742385600-1742389200@wellspringms.church
SUMMARY:Silver Linings
DESCRIPTION:Silver Linings is an older adult small group that meets the third Wednesday of each month at noon at Wellspring.
URL:https://wellspringms.church/event/silver-linings-2/
LOCATION:MS
CATEGORIES:Small Group
END:VEVENT
BEGIN:VEVENT
DTSTART;TZID=America/Chicago:20250325T180000
DTEND;TZID=America/Chicago:20250325T193000
DTSTAMP:20260419T090455
CREATED:20241015T203442Z
LAST-MODIFIED:20260205T145743Z
UID:10008503-1742925600-1742931000@wellspringms.church
SUMMARY:Ayars Bible Study/Growth Group
DESCRIPTION:Dive deep into the rich narratives of 1 Samuel in this engaging small group study\, led by Dr. Matt Ayars. Together\, we’ll explore themes of leadership\, faith\, and God’s sovereignty through the lives of Samuel\, Saul\, and David. \nWhether you’re new to Bible study or a seasoned learner\, this group offers a welcoming environment to grow in understanding and faith. Don’t miss the opportunity to learn from Dr. Ayars’ expertise and apply timeless truths to your life. \nCome with your Bible\, questions\, and a heart ready to discover God’s Word! \n#BibleStudy #1Samuel #WellspringChurch #GrowInFaith
URL:https://wellspringms.church/event/ayars-and-sarullo-bible-study-growth-group/
LOCATION:MS
CATEGORIES:Small Group
END:VEVENT
BEGIN:VEVENT
DTSTART;TZID=America/Chicago:20250325T180000
DTEND;TZID=America/Chicago:20250325T200000
DTSTAMP:20260419T090455
CREATED:20250323T144836Z
LAST-MODIFIED:20250323T144836Z
UID:10011128-1742925600-1742932800@wellspringms.church
SUMMARY:Men's Cookout
DESCRIPTION:🍔 Wellspring Men’s Cookout 🔥 \nMen of Wellspring—grab your appetite and join us for an evening of great food\, good conversation\, and brotherhood around the grill! \nThis is more than just burgers and hot dogs (though we’ll have plenty of those!). It’s a chance for the men of our church—young and old—to connect\, encourage one another\, and enjoy some laid-back fellowship. \nWhether you’re new to Wellspring or you’ve been here for years\, this is a great opportunity to build friendships and strengthen community. \nBring: A friend\, a lawn chair\, and your appetite. \nCome hungry. Leave encouraged. See you there!
URL:https://wellspringms.church/event/mens-cookout-2/
LOCATION:MS
CATEGORIES:Fellowship Event
END:VEVENT
BEGIN:VEVENT
DTSTART;TZID=America/Chicago:20250326T180000
DTEND;TZID=America/Chicago:20250326T190000
DTSTAMP:20260419T090455
CREATED:20241231T054258Z
LAST-MODIFIED:20250424T033025Z
UID:10010189-1743012000-1743015600@wellspringms.church
SUMMARY:Youth Bible Study
DESCRIPTION:Dive Deeper in our faith as we study God’s Word! \nBring a friend and your bible. \n 
URL:https://wellspringms.church/event/youth-bible-study-3/
LOCATION:MS
CATEGORIES:Youth Group
END:VEVENT
END:VCALENDAR