BEGIN:VCALENDAR
VERSION:2.0
PRODID:-//Wellspring Church - ECPv6.15.20//NONSGML v1.0//EN
CALSCALE:GREGORIAN
METHOD:PUBLISH
X-WR-CALNAME:Wellspring Church
X-ORIGINAL-URL:https://wellspringms.church
X-WR-CALDESC:Events for Wellspring Church
REFRESH-INTERVAL;VALUE=DURATION:PT1H
X-Robots-Tag:noindex
X-PUBLISHED-TTL:PT1H
BEGIN:VTIMEZONE
TZID:America/Chicago
BEGIN:DAYLIGHT
TZOFFSETFROM:-0600
TZOFFSETTO:-0500
TZNAME:CDT
DTSTART:20240310T080000
END:DAYLIGHT
BEGIN:STANDARD
TZOFFSETFROM:-0500
TZOFFSETTO:-0600
TZNAME:CST
DTSTART:20241103T070000
END:STANDARD
BEGIN:DAYLIGHT
TZOFFSETFROM:-0600
TZOFFSETTO:-0500
TZNAME:CDT
DTSTART:20250309T080000
END:DAYLIGHT
BEGIN:STANDARD
TZOFFSETFROM:-0500
TZOFFSETTO:-0600
TZNAME:CST
DTSTART:20251102T070000
END:STANDARD
BEGIN:DAYLIGHT
TZOFFSETFROM:-0600
TZOFFSETTO:-0500
TZNAME:CDT
DTSTART:20260308T080000
END:DAYLIGHT
BEGIN:STANDARD
TZOFFSETFROM:-0500
TZOFFSETTO:-0600
TZNAME:CST
DTSTART:20261101T070000
END:STANDARD
END:VTIMEZONE
BEGIN:VEVENT
DTSTART;TZID=America/Chicago:20250603T180000
DTEND;TZID=America/Chicago:20250603T193000
DTSTAMP:20260419T073011
CREATED:20241015T203442Z
LAST-MODIFIED:20260205T145743Z
UID:10008513-1748973600-1748979000@wellspringms.church
SUMMARY:Ayars Bible Study/Growth Group
DESCRIPTION:Dive deep into the rich narratives of 1 Samuel in this engaging small group study\, led by Dr. Matt Ayars. Together\, we’ll explore themes of leadership\, faith\, and God’s sovereignty through the lives of Samuel\, Saul\, and David. \nWhether you’re new to Bible study or a seasoned learner\, this group offers a welcoming environment to grow in understanding and faith. Don’t miss the opportunity to learn from Dr. Ayars’ expertise and apply timeless truths to your life. \nCome with your Bible\, questions\, and a heart ready to discover God’s Word! \n#BibleStudy #1Samuel #WellspringChurch #GrowInFaith
URL:https://wellspringms.church/event/ayars-and-sarullo-bible-study-growth-group/
LOCATION:MS
CATEGORIES:Small Group
END:VEVENT
BEGIN:VEVENT
DTSTART;TZID=America/Chicago:20250604T180000
DTEND;TZID=America/Chicago:20250604T190000
DTSTAMP:20260419T073011
CREATED:20250416T150210Z
LAST-MODIFIED:20250416T150210Z
UID:10011141-1749060000-1749063600@wellspringms.church
SUMMARY:Holy Spirit Study
DESCRIPTION:Who is the Holy Spirit—and what does it mean to live a Spirit-filled life? Beginning April 23rd at 6PM\, join us for a nine-week journey through The Holy Spirit: An Introduction by Wellspring Pastor Matt Ayars and discover how God’s presence transforms everything. Don’t miss it!\nhttps://wellspringms.church/holy-spirit-study/
URL:https://wellspringms.church/event/holy-spirit-study/
LOCATION:MS
CATEGORIES:Discipleship
END:VEVENT
BEGIN:VEVENT
DTSTART;TZID=America/Chicago:20250607T100000
DTEND;TZID=America/Chicago:20250607T140000
DTSTAMP:20260419T073011
CREATED:20250424T034103Z
LAST-MODIFIED:20250424T035955Z
UID:10011145-1749290400-1749304800@wellspringms.church
SUMMARY:Youth Car Wash
DESCRIPTION:7738 Old Canton Road\, Madison MS \nHelp the youth raise funds for summer activities by stopping by – \ngetting your car washed\, while enjoying from fresh lemonade and treats.
URL:https://wellspringms.church/event/youth-car-wash/
LOCATION:MS
END:VEVENT
BEGIN:VEVENT
DTSTART;TZID=America/Chicago:20250608T103000
DTEND;TZID=America/Chicago:20250611T193000
DTSTAMP:20260419T073011
CREATED:20250501T134923Z
LAST-MODIFIED:20250502T134521Z
UID:10011146-1749378600-1749670200@wellspringms.church
SUMMARY:Reclaimed: A Wellspring Revival Event
DESCRIPTION:Reclaimed is more than an event—it’s a holy invitation. In a world that leaves us tired\, numb\, and spiritually scattered\, God is calling His people back to Himself. This revival is a space to pause\, breathe\, and be restored. Over four powerful gatherings beginning on Pentecost Sunday\, we’ll open our hearts to the Spirit of God who reclaims what’s been lost\, heals what’s been wounded\, and awakens what’s grown dormant. \nJoin us as Rev. Hal Daigre leads us through a time of worship\, Word\, and renewal. Whether you’re feeling spiritually dry or deeply devoted\, Reclaimed is a chance to encounter the love that never let go—and be made new. \nCome hungry. Leave whole. \nTimes: \n\nSession 1: June 8th\, 10:30AM (Potluck to follow)\nSession 2: June 9th\, 6:00PM\nSession 3: June 10th\, 6:00PM (Frosty freeze to follow service)\nSession 4: June 11th\, 6:00PM (Lost Pizza food truck 5PM–6PM)
URL:https://wellspringms.church/event/reclaimed-a-wellspring-revival-event/
LOCATION:MS
CATEGORIES:missions
END:VEVENT
BEGIN:VEVENT
DTSTART;TZID=America/Chicago:20250609T173000
DTEND;TZID=America/Chicago:20250609T183000
DTSTAMP:20260419T073011
CREATED:20250220T203227Z
LAST-MODIFIED:20250220T203227Z
UID:10010539-1749490200-1749493800@wellspringms.church
SUMMARY:Trustees Meeting
DESCRIPTION:
URL:https://wellspringms.church/event/trustees-meeting/
LOCATION:MS
CATEGORIES:Meetings
END:VEVENT
BEGIN:VEVENT
DTSTART;TZID=America/Chicago:20250610T180000
DTEND;TZID=America/Chicago:20250610T193000
DTSTAMP:20260419T073011
CREATED:20241015T203442Z
LAST-MODIFIED:20260205T145743Z
UID:10008514-1749578400-1749583800@wellspringms.church
SUMMARY:Ayars Bible Study/Growth Group
DESCRIPTION:Dive deep into the rich narratives of 1 Samuel in this engaging small group study\, led by Dr. Matt Ayars. Together\, we’ll explore themes of leadership\, faith\, and God’s sovereignty through the lives of Samuel\, Saul\, and David. \nWhether you’re new to Bible study or a seasoned learner\, this group offers a welcoming environment to grow in understanding and faith. Don’t miss the opportunity to learn from Dr. Ayars’ expertise and apply timeless truths to your life. \nCome with your Bible\, questions\, and a heart ready to discover God’s Word! \n#BibleStudy #1Samuel #WellspringChurch #GrowInFaith
URL:https://wellspringms.church/event/ayars-and-sarullo-bible-study-growth-group/
LOCATION:MS
CATEGORIES:Small Group
END:VEVENT
BEGIN:VEVENT
DTSTART;TZID=America/Chicago:20250611T180000
DTEND;TZID=America/Chicago:20250611T190000
DTSTAMP:20260419T073011
CREATED:20250416T150210Z
LAST-MODIFIED:20250416T150210Z
UID:10011142-1749664800-1749668400@wellspringms.church
SUMMARY:Holy Spirit Study
DESCRIPTION:Who is the Holy Spirit—and what does it mean to live a Spirit-filled life? Beginning April 23rd at 6PM\, join us for a nine-week journey through The Holy Spirit: An Introduction by Wellspring Pastor Matt Ayars and discover how God’s presence transforms everything. Don’t miss it!\nhttps://wellspringms.church/holy-spirit-study/
URL:https://wellspringms.church/event/holy-spirit-study/
LOCATION:MS
CATEGORIES:Discipleship
END:VEVENT
BEGIN:VEVENT
DTSTART;TZID=America/Chicago:20250617T180000
DTEND;TZID=America/Chicago:20250617T193000
DTSTAMP:20260419T073011
CREATED:20241015T203442Z
LAST-MODIFIED:20260205T145743Z
UID:10008515-1750183200-1750188600@wellspringms.church
SUMMARY:Ayars Bible Study/Growth Group
DESCRIPTION:Dive deep into the rich narratives of 1 Samuel in this engaging small group study\, led by Dr. Matt Ayars. Together\, we’ll explore themes of leadership\, faith\, and God’s sovereignty through the lives of Samuel\, Saul\, and David. \nWhether you’re new to Bible study or a seasoned learner\, this group offers a welcoming environment to grow in understanding and faith. Don’t miss the opportunity to learn from Dr. Ayars’ expertise and apply timeless truths to your life. \nCome with your Bible\, questions\, and a heart ready to discover God’s Word! \n#BibleStudy #1Samuel #WellspringChurch #GrowInFaith
URL:https://wellspringms.church/event/ayars-and-sarullo-bible-study-growth-group/
LOCATION:MS
CATEGORIES:Small Group
END:VEVENT
BEGIN:VEVENT
DTSTART;TZID=America/Chicago:20250618T120000
DTEND;TZID=America/Chicago:20250618T130000
DTSTAMP:20260419T073011
CREATED:20250212T214258Z
LAST-MODIFIED:20250216T142557Z
UID:10007321-1750248000-1750251600@wellspringms.church
SUMMARY:Silver Linings
DESCRIPTION:Silver Linings is an older adult small group that meets the third Wednesday of each month at noon at Wellspring.
URL:https://wellspringms.church/event/silver-linings-2/
LOCATION:MS
CATEGORIES:Small Group
END:VEVENT
BEGIN:VEVENT
DTSTART;TZID=America/Chicago:20250620T173000
DTEND;TZID=America/Chicago:20250622T103000
DTSTAMP:20260419T073011
CREATED:20250421T150334Z
LAST-MODIFIED:20250421T151002Z
UID:10011143-1750440600-1750588200@wellspringms.church
SUMMARY:Vacation Bible School
DESCRIPTION:👉 Register online here: https://wellspringmethodist.shelbynextchms.com/external/form/3c220e9d-8765-472c-801b-a64b46453228 \n🤠 Saddle Up for VBS at Wellspring Church! 🤠\nTheme: Yee-Haw: Celebrating God’s Greatest Gift\nDates: June 20–22\nGiddy up and get ready for a wild ride through God’s Word! This summer\, Wellspring Church is transforming into a rip-roarin’ frontier where kids will discover Jesus is the greatest gift of all!\nAt Yee-Haw VBS\, your little cowpokes will enjoy high-energy worship\, engaging Bible adventures\, fun games\, tasty snacks\, and hands-on activities that point their hearts to Jesus. It’s a rootin’-tootin’ good time for kids from 3 years old to those who have completed 5th grade!\n🌵 Free & open to the community\n🎶 Live music & fun skits\n🎁 Christ-centered teaching\n🐴 Games\, crafts\, snacks\, and more!\nRound up your kids\, invite some friends\, and join us for a week they won’t forget! \n📞 Questions? Contact us at 769-300-3114\nLet’s celebrate God’s greatest gift—together!
URL:https://wellspringms.church/event/vacation-bible-study/
LOCATION:MS
CATEGORIES:Children's Ministry
END:VEVENT
BEGIN:VEVENT
DTSTART;TZID=America/Chicago:20250624T180000
DTEND;TZID=America/Chicago:20250624T193000
DTSTAMP:20260419T073011
CREATED:20241015T203442Z
LAST-MODIFIED:20260205T145743Z
UID:10008516-1750788000-1750793400@wellspringms.church
SUMMARY:Ayars Bible Study/Growth Group
DESCRIPTION:Dive deep into the rich narratives of 1 Samuel in this engaging small group study\, led by Dr. Matt Ayars. Together\, we’ll explore themes of leadership\, faith\, and God’s sovereignty through the lives of Samuel\, Saul\, and David. \nWhether you’re new to Bible study or a seasoned learner\, this group offers a welcoming environment to grow in understanding and faith. Don’t miss the opportunity to learn from Dr. Ayars’ expertise and apply timeless truths to your life. \nCome with your Bible\, questions\, and a heart ready to discover God’s Word! \n#BibleStudy #1Samuel #WellspringChurch #GrowInFaith
URL:https://wellspringms.church/event/ayars-and-sarullo-bible-study-growth-group/
LOCATION:MS
CATEGORIES:Small Group
END:VEVENT
END:VCALENDAR