BEGIN:VCALENDAR
VERSION:2.0
PRODID:-//Wellspring Church - ECPv6.15.20//NONSGML v1.0//EN
CALSCALE:GREGORIAN
METHOD:PUBLISH
X-WR-CALNAME:Wellspring Church
X-ORIGINAL-URL:https://wellspringms.church
X-WR-CALDESC:Events for Wellspring Church
REFRESH-INTERVAL;VALUE=DURATION:PT1H
X-Robots-Tag:noindex
X-PUBLISHED-TTL:PT1H
BEGIN:VTIMEZONE
TZID:America/Chicago
BEGIN:DAYLIGHT
TZOFFSETFROM:-0600
TZOFFSETTO:-0500
TZNAME:CDT
DTSTART:20230312T080000
END:DAYLIGHT
BEGIN:STANDARD
TZOFFSETFROM:-0500
TZOFFSETTO:-0600
TZNAME:CST
DTSTART:20231105T070000
END:STANDARD
BEGIN:DAYLIGHT
TZOFFSETFROM:-0600
TZOFFSETTO:-0500
TZNAME:CDT
DTSTART:20240310T080000
END:DAYLIGHT
BEGIN:STANDARD
TZOFFSETFROM:-0500
TZOFFSETTO:-0600
TZNAME:CST
DTSTART:20241103T070000
END:STANDARD
BEGIN:DAYLIGHT
TZOFFSETFROM:-0600
TZOFFSETTO:-0500
TZNAME:CDT
DTSTART:20250309T080000
END:DAYLIGHT
BEGIN:STANDARD
TZOFFSETFROM:-0500
TZOFFSETTO:-0600
TZNAME:CST
DTSTART:20251102T070000
END:STANDARD
BEGIN:DAYLIGHT
TZOFFSETFROM:-0600
TZOFFSETTO:-0500
TZNAME:CDT
DTSTART:20260308T080000
END:DAYLIGHT
BEGIN:STANDARD
TZOFFSETFROM:-0500
TZOFFSETTO:-0600
TZNAME:CST
DTSTART:20261101T070000
END:STANDARD
END:VTIMEZONE
BEGIN:VEVENT
DTSTART;TZID=America/Chicago:20250115T120000
DTEND;TZID=America/Chicago:20250115T130000
DTSTAMP:20260419T230944
CREATED:20240410T211400Z
LAST-MODIFIED:20240903T221313Z
UID:10007316-1736942400-1736946000@wellspringms.church
SUMMARY:Silver Linings
DESCRIPTION:Silver Linings is an older adult small group that meets the third Wednesday of each month at noon at Chicken Salad Chick in Madison.
URL:https://wellspringms.church/event/silver-linings/2025-01-15/
LOCATION:Chicken Salad Chick\, 1917 Main St\, Madison\, MS\, 39110\, United States
CATEGORIES:Small Group
ATTACH;FMTTYPE=image/jpeg:https://wellspringms.church/wp-content/uploads/2024/04/Silver-Linings-group-shot.jpg
END:VEVENT
BEGIN:VEVENT
DTSTART;TZID=America/Chicago:20241218T120000
DTEND;TZID=America/Chicago:20241218T130000
DTSTAMP:20260419T230944
CREATED:20240410T211400Z
LAST-MODIFIED:20240903T221313Z
UID:10007315-1734523200-1734526800@wellspringms.church
SUMMARY:Silver Linings
DESCRIPTION:Silver Linings is an older adult small group that meets the third Wednesday of each month at noon at Chicken Salad Chick in Madison.
URL:https://wellspringms.church/event/silver-linings/2024-12-18/
LOCATION:Chicken Salad Chick\, 1917 Main St\, Madison\, MS\, 39110\, United States
CATEGORIES:Small Group
ATTACH;FMTTYPE=image/jpeg:https://wellspringms.church/wp-content/uploads/2024/04/Silver-Linings-group-shot.jpg
END:VEVENT
BEGIN:VEVENT
DTSTART;TZID=America/Chicago:20241120T120000
DTEND;TZID=America/Chicago:20241120T130000
DTSTAMP:20260419T230944
CREATED:20240410T211400Z
LAST-MODIFIED:20240903T221313Z
UID:10007314-1732104000-1732107600@wellspringms.church
SUMMARY:Silver Linings
DESCRIPTION:Silver Linings is an older adult small group that meets the third Wednesday of each month at noon at Chicken Salad Chick in Madison.
URL:https://wellspringms.church/event/silver-linings/2024-11-20/
LOCATION:Chicken Salad Chick\, 1917 Main St\, Madison\, MS\, 39110\, United States
CATEGORIES:Small Group
ATTACH;FMTTYPE=image/jpeg:https://wellspringms.church/wp-content/uploads/2024/04/Silver-Linings-group-shot.jpg
END:VEVENT
BEGIN:VEVENT
DTSTART;TZID=America/Chicago:20241016T120000
DTEND;TZID=America/Chicago:20241016T130000
DTSTAMP:20260419T230945
CREATED:20240410T211400Z
LAST-MODIFIED:20240903T221313Z
UID:10007313-1729080000-1729083600@wellspringms.church
SUMMARY:Silver Linings
DESCRIPTION:Silver Linings is an older adult small group that meets the third Wednesday of each month at noon at Chicken Salad Chick in Madison.
URL:https://wellspringms.church/event/silver-linings/2024-10-16/
LOCATION:Chicken Salad Chick\, 1917 Main St\, Madison\, MS\, 39110\, United States
CATEGORIES:Small Group
ATTACH;FMTTYPE=image/jpeg:https://wellspringms.church/wp-content/uploads/2024/04/Silver-Linings-group-shot.jpg
END:VEVENT
BEGIN:VEVENT
DTSTART;TZID=America/Chicago:20240918T120000
DTEND;TZID=America/Chicago:20240918T130000
DTSTAMP:20260419T230945
CREATED:20240410T211400Z
LAST-MODIFIED:20240903T221313Z
UID:10007312-1726660800-1726664400@wellspringms.church
SUMMARY:Silver Linings
DESCRIPTION:Silver Linings is an older adult small group that meets the third Wednesday of each month at noon at Chicken Salad Chick in Madison.
URL:https://wellspringms.church/event/silver-linings/2024-09-18/
LOCATION:Chicken Salad Chick\, 1917 Main St\, Madison\, MS\, 39110\, United States
CATEGORIES:Small Group
ATTACH;FMTTYPE=image/jpeg:https://wellspringms.church/wp-content/uploads/2024/04/Silver-Linings-group-shot.jpg
END:VEVENT
BEGIN:VEVENT
DTSTART;TZID=America/Chicago:20240821T120000
DTEND;TZID=America/Chicago:20240821T130000
DTSTAMP:20260419T230945
CREATED:20240410T211400Z
LAST-MODIFIED:20240903T221313Z
UID:10007311-1724241600-1724245200@wellspringms.church
SUMMARY:Silver Linings
DESCRIPTION:Silver Linings is an older adult small group that meets the third Wednesday of each month at noon at Chicken Salad Chick in Madison.
URL:https://wellspringms.church/event/silver-linings/2024-08-21/
LOCATION:Chicken Salad Chick\, 1917 Main St\, Madison\, MS\, 39110\, United States
CATEGORIES:Small Group
ATTACH;FMTTYPE=image/jpeg:https://wellspringms.church/wp-content/uploads/2024/04/Silver-Linings-group-shot.jpg
END:VEVENT
BEGIN:VEVENT
DTSTART;TZID=America/Chicago:20240717T120000
DTEND;TZID=America/Chicago:20240717T130000
DTSTAMP:20260419T230945
CREATED:20240410T211400Z
LAST-MODIFIED:20240903T221313Z
UID:10007310-1721217600-1721221200@wellspringms.church
SUMMARY:Silver Linings
DESCRIPTION:Silver Linings is an older adult small group that meets the third Wednesday of each month at noon at Chicken Salad Chick in Madison.
URL:https://wellspringms.church/event/silver-linings/2024-07-17/
LOCATION:Chicken Salad Chick\, 1917 Main St\, Madison\, MS\, 39110\, United States
CATEGORIES:Small Group
ATTACH;FMTTYPE=image/jpeg:https://wellspringms.church/wp-content/uploads/2024/04/Silver-Linings-group-shot.jpg
END:VEVENT
BEGIN:VEVENT
DTSTART;TZID=America/Chicago:20240619T120000
DTEND;TZID=America/Chicago:20240619T130000
DTSTAMP:20260419T230945
CREATED:20240410T211400Z
LAST-MODIFIED:20240903T221313Z
UID:10007309-1718798400-1718802000@wellspringms.church
SUMMARY:Silver Linings
DESCRIPTION:Silver Linings is an older adult small group that meets the third Wednesday of each month at noon at Chicken Salad Chick in Madison.
URL:https://wellspringms.church/event/silver-linings/2024-06-19/
LOCATION:Chicken Salad Chick\, 1917 Main St\, Madison\, MS\, 39110\, United States
CATEGORIES:Small Group
ATTACH;FMTTYPE=image/jpeg:https://wellspringms.church/wp-content/uploads/2024/04/Silver-Linings-group-shot.jpg
END:VEVENT
BEGIN:VEVENT
DTSTART;TZID=America/Chicago:20240515T120000
DTEND;TZID=America/Chicago:20240515T130000
DTSTAMP:20260419T230945
CREATED:20240410T211400Z
LAST-MODIFIED:20240903T221313Z
UID:10007308-1715774400-1715778000@wellspringms.church
SUMMARY:Silver Linings
DESCRIPTION:Silver Linings is an older adult small group that meets the third Wednesday of each month at noon at Chicken Salad Chick in Madison.
URL:https://wellspringms.church/event/silver-linings/2024-05-15/
LOCATION:Chicken Salad Chick\, 1917 Main St\, Madison\, MS\, 39110\, United States
CATEGORIES:Small Group
ATTACH;FMTTYPE=image/jpeg:https://wellspringms.church/wp-content/uploads/2024/04/Silver-Linings-group-shot.jpg
END:VEVENT
END:VCALENDAR